BEGIN:VCALENDAR
VERSION:2.0
PRODID:-//www.ketchikanarts.org//NONSGML kigkonsult.se iCalcreator 2.30.10/
 /
CALSCALE:GREGORIAN
METHOD:PUBLISH
UID:b63b0500-0d2d-4036-805f-3b3837f29c01
X-WR-CALDESC:Advanced Northwest Coast Carving\nInstructor: Nathan Jackson\n
 February 14 – 23\, 2019\nMonday – Friday\, 5:30 – 9 p.m.\, Saturdays\, 9 a
 .m. – 6 p.m.\nRegistration Fee:  $225 / $200\nMaterials: $20\nREGISTRATION
  FOR THIS CLASS OPENS DEC. 13\, 2018 @ 5:00 PM.\n\nPrerequisite: Intermedi
 ate Northwest Coast carving\n\nWorld-renowned Tlingit master carver Nathan
  Jackson will teach advanced students his expert methods for carving tradi
 tional Northwest Coast masks. This is a tremendous opportunity for experie
 nced carvers to challenge their skills and learn techniques that have been
  refined through a lifetime of experience creating everything from frontle
 ts to totem poles for museums\, galleries and commissions around the globe
 .
X-WR-RELCALID:f2bb881165f6fe0b5c47f4e3bf078970
X-WR-TIMEZONE:America/Anchorage
BEGIN:VTIMEZONE
TZID:America/Anchorage
BEGIN:STANDARD
TZNAME:AKST
DTSTART:20181104T020000
TZOFFSETFROM:-0800
TZOFFSETTO:-0900
RDATE:20191103T020000
END:STANDARD
BEGIN:DAYLIGHT
TZNAME:AKDT
DTSTART:20180311T020000
TZOFFSETFROM:-0900
TZOFFSETTO:-0800
RDATE:20190310T020000
RDATE:20200308T020000
END:DAYLIGHT
END:VTIMEZONE
BEGIN:VEVENT
UID:6c180a5b-7327-495b-a4e1-68b195fc9da7
DTSTAMP:20260422T222214Z
DESCRIPTION:Advanced Northwest Coast Carving\nInstructor: Nathan Jackson\nF
 ebruary 14 – 23\, 2019\nMonday – Friday\, 5:30 – 9 p.m.\, Saturdays\, 9 a.
 m. – 6 p.m.\nRegistration Fee:  $225 / $200\nMaterials: $20\nREGISTRATION 
 FOR THIS CLASS OPENS DEC. 13\, 2018 @ 5:00 PM.\n\nPrerequisite: Intermedia
 te Northwest Coast carving\n\nWorld-renowned Tlingit master carver Nathan 
 Jackson will teach advanced students his expert methods for carving tradit
 ional Northwest Coast masks. This is a tremendous opportunity for experien
 ced carvers to challenge their skills and learn techniques that have been 
 refined through a lifetime of experience creating everything from frontlet
 s to totem poles for museums\, galleries and commissions around the globe.
DTSTART;TZID=America/Anchorage:20190220T173000
DTEND;TZID=America/Anchorage:20190220T210000
LOCATION:Totem Heritage Center
SUMMARY:Advanced Northwest Carving - Nathan Jackson
END:VEVENT
END:VCALENDAR
