BEGIN:VCALENDAR
VERSION:2.0
PRODID:-//www.ketchikanarts.org//NONSGML kigkonsult.se iCalcreator 2.30.10/
 /
CALSCALE:GREGORIAN
METHOD:PUBLISH
UID:db421026-c8a9-4346-9326-92ce60eddc08
X-WR-CALDESC:Mark your calendars Death Cafe is back! It will be a truly spi
 cy evening\, full of tantalizing conversations and your favorite Indian di
 shes! It's a POTLUCK! RSVP asap and let us know what you'll be bringing so
  we can fill in. \n\nCall or text 907-617-7623 or 907-821-0917 OR email co
 urageousktn@gmail.com
X-WR-RELCALID:087d2ea908d7765887cb7848f0446168
X-WR-TIMEZONE:America/Anchorage
BEGIN:VTIMEZONE
TZID:America/Anchorage
BEGIN:STANDARD
TZNAME:AKST
DTSTART:20181104T020000
TZOFFSETFROM:-0800
TZOFFSETTO:-0900
RDATE:20191103T020000
END:STANDARD
BEGIN:DAYLIGHT
TZNAME:AKDT
DTSTART:20180311T020000
TZOFFSETFROM:-0900
TZOFFSETTO:-0800
RDATE:20190310T020000
RDATE:20200308T020000
END:DAYLIGHT
END:VTIMEZONE
BEGIN:VEVENT
UID:739e36de-9403-4f8f-9e56-59d5d00f8479
DTSTAMP:20260422T222226Z
DESCRIPTION:Mark your calendars Death Cafe is back! It will be a truly spic
 y evening\, full of tantalizing conversations and your favorite Indian dis
 hes! It's a POTLUCK! RSVP asap and let us know what you'll be bringing so 
 we can fill in. \n\nCall or text 907-617-7623 or 907-821-0917 OR email cou
 rageousktn@gmail.com
DTSTART;TZID=America/Anchorage:20190217T160000
DTEND;TZID=America/Anchorage:20190217T180000
LOCATION:
SUMMARY:Death Cafe Goes to India
END:VEVENT
END:VCALENDAR
