BEGIN:VCALENDAR
VERSION:2.0
PRODID:-//www.ketchikanarts.org//NONSGML kigkonsult.se iCalcreator 2.30.10/
 /
CALSCALE:GREGORIAN
METHOD:PUBLISH
UID:d5a3311e-f5e6-41ad-a81f-beb43d491b2b
X-WR-CALDESC:Ketchikan Writers! We're looking for submissions for the publi
 cation of our second Ketchikan Writes literary zine. Fiction\, non-fiction
 \, poetry\, short play\, and everything in between! Writers do not have to
  live in Ketchikan\, and submissions do not have to be about Ketchikan.\n
 \nSubmission Deadline: Feb. 15\, 2019 at 8:00 PM AKST. While many writers 
 immerse themselves in procrastination\, you're welcome to submit work befo
 re the deadline.\nFormat: Double-spaced\, 12 pt\, Times New Roman\nLength:
  Poetry (5 pages) AND/OR Prose (10 pages or 2\,500 words)\n\nAdditional No
 tes:\n• You can submit as many submissions as fit within our guidelines\, 
 but we will publish a maximum of 2.\n• Submissions will be emailed as a wo
 rd document or PDF attachment to: ketchikanwrites@firstcityplayers.org\n• 
 You should include your name\, phone number\, and the title of your work(s
 ) in the body of your email.\n• Please DO NOT put your name on your submis
 sion so you can remain anonymous for the selection panel. Include your tit
 le on your submission in the header for identification. If you have multip
 le pages\, please include a repeat header.
X-WR-RELCALID:bc2c1e0ff643968b35ab88361bf28bf1
X-WR-TIMEZONE:America/Anchorage
BEGIN:VTIMEZONE
TZID:America/Anchorage
BEGIN:STANDARD
TZNAME:AKST
DTSTART:20181104T020000
TZOFFSETFROM:-0800
TZOFFSETTO:-0900
RDATE:20191103T020000
END:STANDARD
BEGIN:DAYLIGHT
TZNAME:AKDT
DTSTART:20180311T020000
TZOFFSETFROM:-0900
TZOFFSETTO:-0800
RDATE:20190310T020000
RDATE:20200308T020000
END:DAYLIGHT
END:VTIMEZONE
BEGIN:VEVENT
UID:9a74f048-593a-45e1-94b7-1d02af18ed83
DTSTAMP:20260422T222717Z
DESCRIPTION:Ketchikan Writers! We're looking for submissions for the public
 ation of our second Ketchikan Writes literary zine. Fiction\, non-fiction\
 , poetry\, short play\, and everything in between! Writers do not have to 
 live in Ketchikan\, and submissions do not have to be about Ketchikan.\n\n
 Submission Deadline: Feb. 15\, 2019 at 8:00 PM AKST. While many writers im
 merse themselves in procrastination\, you're welcome to submit work before
  the deadline.\nFormat: Double-spaced\, 12 pt\, Times New Roman\nLength: P
 oetry (5 pages) AND/OR Prose (10 pages or 2\,500 words)\n\nAdditional Note
 s:\n• You can submit as many submissions as fit within our guidelines\, bu
 t we will publish a maximum of 2.\n• Submissions will be emailed as a word
  document or PDF attachment to: ketchikanwrites@firstcityplayers.org\n• Yo
 u should include your name\, phone number\, and the title of your work(s) 
 in the body of your email.\n• Please DO NOT put your name on your submissi
 on so you can remain anonymous for the selection panel. Include your title
  on your submission in the header for identification. If you have multiple
  pages\, please include a repeat header.
DTSTART;TZID=America/Anchorage:20190215T000000
DTEND;TZID=America/Anchorage:20190215T235900
LOCATION:
SUMMARY:Ketchikan Writes Literary Zine Vol. 2
END:VEVENT
END:VCALENDAR
