BEGIN:VCALENDAR
VERSION:2.0
PRODID:-//www.ketchikanarts.org//NONSGML kigkonsult.se iCalcreator 2.30.10/
 /
CALSCALE:GREGORIAN
METHOD:PUBLISH
UID:63c0fd93-16d7-44eb-ac3d-32e5f4e6938b
X-WR-CALDESC:Friday\, February 15: 11 Whirlwind Days in Peru: Art and Sunse
 ts in Lima\, Exploring Machu Picchu\, and Birding the Manu Cloud Forest \n
 \nJoin Ben and Nicole Limle as they take you on a photographic journey of 
 their recent trip to Peru. The couple will focus on culture and cuisine\, 
 the sunny pacific coast\, the Incan ruins at Machu Picchu\, and the lush c
 loud forest in Manu National Park where they saw beautiful birds\, unique 
 insects\, and acrobatic monkeys.
X-WR-RELCALID:f5715d12fed86a741ac6b33ccd9ea18b
X-WR-TIMEZONE:America/Anchorage
BEGIN:VTIMEZONE
TZID:America/Anchorage
BEGIN:STANDARD
TZNAME:AKST
DTSTART:20181104T020000
TZOFFSETFROM:-0800
TZOFFSETTO:-0900
RDATE:20191103T020000
END:STANDARD
BEGIN:DAYLIGHT
TZNAME:AKDT
DTSTART:20180311T020000
TZOFFSETFROM:-0900
TZOFFSETTO:-0800
RDATE:20190310T020000
RDATE:20200308T020000
END:DAYLIGHT
END:VTIMEZONE
BEGIN:VEVENT
UID:6a4680ea-4e89-4439-a57f-0f2d1165e17f
DTSTAMP:20260422T220622Z
DESCRIPTION:Friday\, February 15: 11 Whirlwind Days in Peru: Art and Sunset
 s in Lima\, Exploring Machu Picchu\, and Birding the Manu Cloud Forest \n
 \nJoin Ben and Nicole Limle as they take you on a photographic journey of 
 their recent trip to Peru. The couple will focus on culture and cuisine\, 
 the sunny pacific coast\, the Incan ruins at Machu Picchu\, and the lush c
 loud forest in Manu National Park where they saw beautiful birds\, unique 
 insects\, and acrobatic monkeys.
DTSTART;TZID=America/Anchorage:20190215T180000
DTEND;TZID=America/Anchorage:20190215T193000
LOCATION:Southeast Alaska Discovery Center
SUMMARY:Friday Night Insights
END:VEVENT
END:VCALENDAR
