BEGIN:VCALENDAR
VERSION:2.0
PRODID:-//www.ketchikanarts.org//NONSGML kigkonsult.se iCalcreator 2.30.10/
 /
CALSCALE:GREGORIAN
METHOD:PUBLISH
UID:a2e557d0-7a53-4f3d-ada8-2a52b4c8483f
X-WR-CALDESC:Memebers of First City Rotary are invited to the Main Street G
 allery for a wine social and up close look at the works from the runway of
  'Circus of Curiosities' The 33rd Annual Wearable Art Show.
X-WR-RELCALID:9f18aaad7fb616cb8d9dd7cd69c55324
X-WR-TIMEZONE:America/Anchorage
BEGIN:VTIMEZONE
TZID:America/Anchorage
BEGIN:STANDARD
TZNAME:AKST
DTSTART:20181104T020000
TZOFFSETFROM:-0800
TZOFFSETTO:-0900
RDATE:20191103T020000
END:STANDARD
BEGIN:DAYLIGHT
TZNAME:AKDT
DTSTART:20180311T020000
TZOFFSETFROM:-0900
TZOFFSETTO:-0800
RDATE:20190310T020000
RDATE:20200308T020000
END:DAYLIGHT
END:VTIMEZONE
BEGIN:VEVENT
UID:4e962703-5a56-4e19-a215-3e45cb069509
DTSTAMP:20260422T222912Z
DESCRIPTION:Memebers of First City Rotary are invited to the Main Street Ga
 llery for a wine social and up close look at the works from the runway of 
 'Circus of Curiosities' The 33rd Annual Wearable Art Show.
DTSTART;TZID=America/Anchorage:20190215T173000
DTEND;TZID=America/Anchorage:20190215T190000
LOCATION:Main Street Gallery
SUMMARY:First City Rotary - Wearable and Wine at the Main Street Gallery
END:VEVENT
END:VCALENDAR
