BEGIN:VCALENDAR
VERSION:2.0
PRODID:-//www.ketchikanarts.org//NONSGML kigkonsult.se iCalcreator 2.30.10/
 /
CALSCALE:GREGORIAN
METHOD:PUBLISH
UID:ceed4d44-2d98-4bcb-b684-1f299ea0d524
X-WR-CALDESC:Join the nonprofits of Ketchikan as we discuss group projects\
 , professional and organizational development opportunities\, and advocacy
 !
X-WR-RELCALID:8666f83a81bd420ab1aa6953975209df
X-WR-TIMEZONE:America/Anchorage
BEGIN:VTIMEZONE
TZID:America/Anchorage
BEGIN:STANDARD
TZNAME:AKST
DTSTART:20181104T020000
TZOFFSETFROM:-0800
TZOFFSETTO:-0900
RDATE:20191103T020000
END:STANDARD
BEGIN:DAYLIGHT
TZNAME:AKDT
DTSTART:20180311T020000
TZOFFSETFROM:-0900
TZOFFSETTO:-0800
RDATE:20190310T020000
RDATE:20200308T020000
END:DAYLIGHT
END:VTIMEZONE
BEGIN:VEVENT
UID:18b81d60-8c0d-4713-8b58-03b3b26dabfd
DTSTAMP:20260422T221754Z
DESCRIPTION:Join the nonprofits of Ketchikan as we discuss group projects\,
  professional and organizational development opportunities\, and advocacy!
DTSTART;TZID=America/Anchorage:20190214T150000
DTEND;TZID=America/Anchorage:20190214T160000
LOCATION:Ketchikan Wellness Coalition Office
SUMMARY:Strengthening Nonprofit Collaborative
END:VEVENT
END:VCALENDAR
