BEGIN:VCALENDAR
VERSION:2.0
PRODID:-//www.ketchikanarts.org//NONSGML kigkonsult.se iCalcreator 2.30.10/
 /
CALSCALE:GREGORIAN
METHOD:PUBLISH
UID:6d11c729-0990-4e13-83de-678ae39cc679
X-WR-CALDESC:In its fourth season\, Stories@Latitude 56 enters a new phase 
 of its evolution. The increasingly popular Story Slam--at the Creek Street
  Cabaret\, on the second Tuesday of most months--now becomes the focal poi
 nt of this storytelling enterprise\, and the pool from which stories will 
 be drawn for a season-ending finale: one night of the previous year's most
  compelling stories\, as told by members of our community. Join us monthly
  for an evening of informal storytelling\, and then in April for a collect
 ion of some of Ketchikan's best stories and storytellers--including\, quit
 e possibly\, you!\n\nThe themes for this season are:\n\nOct 9 - Hold the p
 hone\nNov 13 - Unintended Education\nDec 11 - Lost & Found\nJan 8 - Serend
 ipity\nFeb 12 - Where there's smoke\, there's fire.\nMarch 12 - Insider/Ou
 tsider
X-WR-RELCALID:20fac6f142cd6e64c5c69d9d8e4e8458
X-WR-TIMEZONE:America/Anchorage
BEGIN:VTIMEZONE
TZID:America/Anchorage
BEGIN:STANDARD
TZNAME:AKST
DTSTART:20181104T020000
TZOFFSETFROM:-0800
TZOFFSETTO:-0900
RDATE:20191103T020000
END:STANDARD
BEGIN:DAYLIGHT
TZNAME:AKDT
DTSTART:20180311T020000
TZOFFSETFROM:-0900
TZOFFSETTO:-0800
RDATE:20190310T020000
RDATE:20200308T020000
END:DAYLIGHT
END:VTIMEZONE
BEGIN:VEVENT
UID:8efb7ce1-160a-45ac-9ead-e4fa7f1e3fe6
DTSTAMP:20260422T221849Z
DESCRIPTION:In its fourth season\, Stories@Latitude 56 enters a new phase o
 f its evolution. The increasingly popular Story Slam--at the Creek Street 
 Cabaret\, on the second Tuesday of most months--now becomes the focal poin
 t of this storytelling enterprise\, and the pool from which stories will b
 e drawn for a season-ending finale: one night of the previous year's most 
 compelling stories\, as told by members of our community. Join us monthly 
 for an evening of informal storytelling\, and then in April for a collecti
 on of some of Ketchikan's best stories and storytellers--including\, quite
  possibly\, you!\n\nThe themes for this season are:\n\nOct 9 - Hold the ph
 one\nNov 13 - Unintended Education\nDec 11 - Lost & Found\nJan 8 - Serendi
 pity\nFeb 12 - Where there's smoke\, there's fire.\nMarch 12 - Insider/Out
 sider
DTSTART;TZID=America/Anchorage:20190212T190000
DTEND;TZID=America/Anchorage:20190213T010000
LOCATION:Creek Street Cabaret
SUMMARY:Stories at Latitude 56 - STORY SLAM
END:VEVENT
END:VCALENDAR
