BEGIN:VCALENDAR
VERSION:2.0
PRODID:-//www.ketchikanarts.org//NONSGML kigkonsult.se iCalcreator 2.30.10/
 /
CALSCALE:GREGORIAN
METHOD:PUBLISH
UID:e187903a-4eb6-4982-a1f6-aa77e3d48cf3
X-WR-CALDESC:Manga Drawing Class with instructor Ema Oshima.  3:30pm for ki
 ds\;  Supplies are provided\, call 225-3331 for more information.\n \n
X-WR-RELCALID:2ca752d995f0cd38ef16483ff939724a
X-WR-TIMEZONE:America/Anchorage
BEGIN:VTIMEZONE
TZID:America/Anchorage
BEGIN:STANDARD
TZNAME:AKST
DTSTART:20181104T020000
TZOFFSETFROM:-0800
TZOFFSETTO:-0900
RDATE:20191103T020000
END:STANDARD
BEGIN:DAYLIGHT
TZNAME:AKDT
DTSTART:20180311T020000
TZOFFSETFROM:-0900
TZOFFSETTO:-0800
RDATE:20190310T020000
RDATE:20200308T020000
END:DAYLIGHT
END:VTIMEZONE
BEGIN:VEVENT
UID:2f9809ba-6447-45f9-8d7f-1e307f7f8b17
DTSTAMP:20260422T220808Z
DESCRIPTION:Manga Drawing Class with instructor Ema Oshima.  3:30pm for kid
 s\;  Supplies are provided\, call 225-3331 for more information.\n \n
DTSTART;TZID=America/Anchorage:20190211T153000
DTEND;TZID=America/Anchorage:20190211T163000
LOCATION:Ketchikan Public Library
SUMMARY:Manga Drawing Class for kids
END:VEVENT
END:VCALENDAR
