BEGIN:VCALENDAR
VERSION:2.0
PRODID:-//www.ketchikanarts.org//NONSGML kigkonsult.se iCalcreator 2.30.10/
 /
CALSCALE:GREGORIAN
METHOD:PUBLISH
UID:b8c2c77c-c483-4abe-ab40-fa723be846dc
X-WR-CALDESC:Intermediate and Advanced Cedar Bark Weaving\nInstructor:  Hol
 ly Churchill\nFebruary 2 – 13\, 2019\nMon\, Tues\, Wed & Fri\, 5:30 – 8:30
  p.m.\,\nSaturdays\, 10 a.m. - 4 p.m.\, Sundays 11 a.m. - 4 p.m. \n\nRegis
 tration Fee: $225/$200 \nMaterials: $65-$175\nREGISTRATION FOR THIS CLASS 
 OPENS DEC. 13\, 2018 @ 5:00 PM.\n\nPrerequisite: Introduction to Cedar Bar
 k Weaving\n\nHaida master weaver Holly Churchill has been dedicated to uph
 olding the art and culture traditions of her heritage through her own weav
 ing and sharing knowledge with students of all ages throughout her lifetim
 e. In this class\, students who know the fundamentals of weaving will gain
  experience in an array of essential cedar bark weaving methods with a foc
 us on false embroidery techniques. Intermediate students will learn how to
  create a new type of base\, while advanced students who come prepared wit
 h a base can create a rattle-top basket with false embroidery. Students wi
 ll need to process materials with instructor guidance. \n
X-WR-RELCALID:6f940664bcf59d12a4c49affa5958ed6
X-WR-TIMEZONE:America/Anchorage
BEGIN:VTIMEZONE
TZID:America/Anchorage
BEGIN:STANDARD
TZNAME:AKST
DTSTART:20181104T020000
TZOFFSETFROM:-0800
TZOFFSETTO:-0900
RDATE:20191103T020000
END:STANDARD
BEGIN:DAYLIGHT
TZNAME:AKDT
DTSTART:20180311T020000
TZOFFSETFROM:-0900
TZOFFSETTO:-0800
RDATE:20190310T020000
RDATE:20200308T020000
END:DAYLIGHT
END:VTIMEZONE
BEGIN:VEVENT
UID:47a9b089-1159-4c17-bb87-0f53c6372180
DTSTAMP:20260422T222555Z
DESCRIPTION:Intermediate and Advanced Cedar Bark Weaving\nInstructor:  Holl
 y Churchill\nFebruary 2 – 13\, 2019\nMon\, Tues\, Wed & Fri\, 5:30 – 8:30 
 p.m.\,\nSaturdays\, 10 a.m. - 4 p.m.\, Sundays 11 a.m. - 4 p.m. \n\nRegist
 ration Fee: $225/$200 \nMaterials: $65-$175\nREGISTRATION FOR THIS CLASS O
 PENS DEC. 13\, 2018 @ 5:00 PM.\n\nPrerequisite: Introduction to Cedar Bark
  Weaving\n\nHaida master weaver Holly Churchill has been dedicated to upho
 lding the art and culture traditions of her heritage through her own weavi
 ng and sharing knowledge with students of all ages throughout her lifetime
 . In this class\, students who know the fundamentals of weaving will gain 
 experience in an array of essential cedar bark weaving methods with a focu
 s on false embroidery techniques. Intermediate students will learn how to 
 create a new type of base\, while advanced students who come prepared with
  a base can create a rattle-top basket with false embroidery. Students wil
 l need to process materials with instructor guidance. \n
DTSTART;TZID=America/Anchorage:20190211T173000
DTEND;TZID=America/Anchorage:20190211T203000
LOCATION:Totem Heritage Center
SUMMARY:Intermediate and Advanced Cedar Bark Weaving - Holly Churchill
END:VEVENT
END:VCALENDAR
