BEGIN:VCALENDAR
VERSION:2.0
PRODID:-//www.ketchikanarts.org//NONSGML kigkonsult.se iCalcreator 2.30.10/
 /
CALSCALE:GREGORIAN
METHOD:PUBLISH
UID:15b61732-35f8-4795-900f-6ba345be951a
X-WR-CALDESC:Get up close and personal with selected pieces from the Wearab
 le Art Show runway!!  You won't believe how some of the pieces are created
  or how intricate they are. \n\nThis exhibit does not have an opening rece
 ption.
X-WR-RELCALID:e4f2229627094b536e246402b6df3a27
X-WR-TIMEZONE:America/Anchorage
BEGIN:VTIMEZONE
TZID:America/Anchorage
BEGIN:STANDARD
TZNAME:AKST
DTSTART:20181104T020000
TZOFFSETFROM:-0800
TZOFFSETTO:-0900
RDATE:20191103T020000
END:STANDARD
BEGIN:DAYLIGHT
TZNAME:AKDT
DTSTART:20180311T020000
TZOFFSETFROM:-0900
TZOFFSETTO:-0800
RDATE:20190310T020000
RDATE:20200308T020000
END:DAYLIGHT
END:VTIMEZONE
BEGIN:VEVENT
UID:2fe48865-d337-4908-86dc-8f73e0a4fc31
DTSTAMP:20260422T223036Z
DESCRIPTION:Get up close and personal with selected pieces from the Wearabl
 e Art Show runway!!  You won't believe how some of the pieces are created 
 or how intricate they are. \n\nThis exhibit does not have an opening recep
 tion.
DTSTART;TZID=America/Anchorage:20190208T090000
DTEND;TZID=America/Anchorage:20190222T170000
LOCATION:Main Street Gallery
SUMMARY:'Circus of Curiosities' the 33rd Annual Wearable Art Show' Main Str
 eet Gallery Exhibit
END:VEVENT
END:VCALENDAR
