BEGIN:VCALENDAR
VERSION:2.0
PRODID:-//www.ketchikanarts.org//NONSGML kigkonsult.se iCalcreator 2.30.10/
 /
CALSCALE:GREGORIAN
METHOD:PUBLISH
UID:c331409e-5db3-4a5f-b77d-6f48a1c74389
X-WR-CALDESC:The Board of Director's of KRBD meet monthly at the station be
 ginning at 5:30pm\, on the first Wednesday of the month. This meeting is t
 o discuss the workings of the radio station.
X-WR-RELCALID:b2a12d4bc63dc012ed9474afe718db93
X-WR-TIMEZONE:America/Anchorage
BEGIN:VTIMEZONE
TZID:America/Anchorage
BEGIN:STANDARD
TZNAME:AKST
DTSTART:20181104T020000
TZOFFSETFROM:-0800
TZOFFSETTO:-0900
RDATE:20191103T020000
END:STANDARD
BEGIN:DAYLIGHT
TZNAME:AKDT
DTSTART:20180311T020000
TZOFFSETFROM:-0900
TZOFFSETTO:-0800
RDATE:20190310T020000
RDATE:20200308T020000
END:DAYLIGHT
END:VTIMEZONE
BEGIN:VEVENT
UID:5126c90d-efea-47b1-8d5f-67dc761e2d24
DTSTAMP:20260422T223116Z
DESCRIPTION:The Board of Director's of KRBD meet monthly at the station beg
 inning at 5:30pm\, on the first Wednesday of the month. This meeting is to
  discuss the workings of the radio station.
DTSTART;TZID=America/Anchorage:20190206T173000
DTEND;TZID=America/Anchorage:20190206T190000
LOCATION:KRBD Station
SUMMARY:KRBD Ketchikan Community Radio - Board of Directors' Meeting
END:VEVENT
END:VCALENDAR
