BEGIN:VCALENDAR
VERSION:2.0
PRODID:-//www.ketchikanarts.org//NONSGML kigkonsult.se iCalcreator 2.30.10/
 /
CALSCALE:GREGORIAN
METHOD:PUBLISH
UID:95fc06e7-7384-45fb-981c-83ec16c15dd4
X-WR-CALDESC:The Ketchikan Community Chorus meets each Tuesday from 7 to 9p
 m at the Presbyterian Church.
X-WR-RELCALID:7baf8896e36f7f996139bcf9728f0355
X-WR-TIMEZONE:America/Anchorage
BEGIN:VTIMEZONE
TZID:America/Anchorage
BEGIN:STANDARD
TZNAME:AKST
DTSTART:20181104T020000
TZOFFSETFROM:-0800
TZOFFSETTO:-0900
RDATE:20191103T020000
END:STANDARD
BEGIN:DAYLIGHT
TZNAME:AKDT
DTSTART:20180311T020000
TZOFFSETFROM:-0900
TZOFFSETTO:-0800
RDATE:20190310T020000
RDATE:20200308T020000
END:DAYLIGHT
END:VTIMEZONE
BEGIN:VEVENT
UID:56aba7e4-76f1-429d-aca9-4ea608a6a8fd
DTSTAMP:20260422T222810Z
DESCRIPTION:The Ketchikan Community Chorus meets each Tuesday from 7 to 9pm
  at the Presbyterian Church.
DTSTART;TZID=America/Anchorage:20190205T190000
DTEND;TZID=America/Anchorage:20190205T210000
LOCATION:Ketchikan Presbyterian Church
SUMMARY:Ketchikan Community Chorus Rehearsal
END:VEVENT
END:VCALENDAR
