BEGIN:VCALENDAR
VERSION:2.0
PRODID:-//www.ketchikanarts.org//NONSGML kigkonsult.se iCalcreator 2.30.10/
 /
CALSCALE:GREGORIAN
METHOD:PUBLISH
UID:38879886-e03f-458e-b04a-5b8fbaf2f95e
X-WR-CALDESC:Friday\, February 1: Ketchikan School District Spelling Bee (*
 5:30 p.m. start time) \n\nCan you spell surveillance\, poinsettia and mira
 ge? Last year\, Ketchikan’s own Grace Parrot competed in the National Scri
 pps Spelling Bee in Washington\, DC. Come support our local heroes! Champi
 on literacy and a love of words and reading. Take a journey back to your o
 wn school days. The Scripps National Spelling Bee is a tradition that star
 ted in 1925. Students from each Ketchikan school will compete for a spot a
 t the State Bee in Anchorage later this spring. Cheer on our youth\, and m
 atch your wits with these word nerds.
X-WR-RELCALID:1bb155309de754c5206fd2ecb11c2d1e
X-WR-TIMEZONE:America/Anchorage
BEGIN:VTIMEZONE
TZID:America/Anchorage
BEGIN:STANDARD
TZNAME:AKST
DTSTART:20181104T020000
TZOFFSETFROM:-0800
TZOFFSETTO:-0900
RDATE:20191103T020000
END:STANDARD
BEGIN:DAYLIGHT
TZNAME:AKDT
DTSTART:20180311T020000
TZOFFSETFROM:-0900
TZOFFSETTO:-0800
RDATE:20190310T020000
RDATE:20200308T020000
END:DAYLIGHT
END:VTIMEZONE
BEGIN:VEVENT
UID:8c604fa7-6d62-43e3-b75d-721832494f62
DTSTAMP:20260422T222103Z
DESCRIPTION:Friday\, February 1: Ketchikan School District Spelling Bee (*5
 :30 p.m. start time) \n\nCan you spell surveillance\, poinsettia and mirag
 e? Last year\, Ketchikan’s own Grace Parrot competed in the National Scrip
 ps Spelling Bee in Washington\, DC. Come support our local heroes! Champio
 n literacy and a love of words and reading. Take a journey back to your ow
 n school days. The Scripps National Spelling Bee is a tradition that start
 ed in 1925. Students from each Ketchikan school will compete for a spot at
  the State Bee in Anchorage later this spring. Cheer on our youth\, and ma
 tch your wits with these word nerds.
DTSTART;TZID=America/Anchorage:20190201T173000
DTEND;TZID=America/Anchorage:20190201T183000
LOCATION:Southeast Alaska Discovery Center
SUMMARY:Friday Night Insights
END:VEVENT
END:VCALENDAR
