BEGIN:VCALENDAR
VERSION:2.0
PRODID:-//www.ketchikanarts.org//NONSGML kigkonsult.se iCalcreator 2.30.10/
 /
CALSCALE:GREGORIAN
METHOD:PUBLISH
UID:d6172b1c-6ac4-486d-8fe1-3378c0158bed
X-WR-CALDESC:This years theme is 'Circus of Curiosities'. Doors at the Ted 
 Ferry Civic Center open at 7pm\, the show starts at 8pm. All seats are res
 erved this year for the Gala performances!!\n\nTickets are still available
  for the Thursday Night Opening Gala performance\, January 31st. Thursday'
 s performance features a champagne and chocolate extravaganza for the audi
 ence! In addition\, along with fine wines donated by Specialty Imports\, w
 e will be featuring Ketchikan's two new breweries\; Bawden Street Brewing 
 and Baleen Brewing Co. Yummy!!! You can get tickets from the link below an
 d pick out the seats of you choice - or you can give us a call and we will
  help you make your purchase!\n\nTickets are also still available for the 
 Saturday afternoon All Ages Matinee! These seats are not reserved\, please
  call the Arts Council to get your ticket!  225-2211\n\n**Please Note**  O
 utside alcohol is not allowed into the Ted Ferry Civic Center during the W
 earable Art Show. If you are found to have outside alcohol inside the venu
 e\, you will be asked to throw it away or to leave the premises. \n\nThe K
 etchikan Area Arts and Humanities Council is excited to partner with 49th 
 State Security Services this year to make sure we are all safe and happy d
 uring the Wearable Art Show!!!
X-WR-RELCALID:73e126270a6f53c657834ce13cf30a9e
X-WR-TIMEZONE:America/Anchorage
BEGIN:VTIMEZONE
TZID:America/Anchorage
BEGIN:STANDARD
TZNAME:AKST
DTSTART:20181104T020000
TZOFFSETFROM:-0800
TZOFFSETTO:-0900
RDATE:20191103T020000
END:STANDARD
BEGIN:DAYLIGHT
TZNAME:AKDT
DTSTART:20180311T020000
TZOFFSETFROM:-0900
TZOFFSETTO:-0800
RDATE:20190310T020000
RDATE:20200308T020000
END:DAYLIGHT
END:VTIMEZONE
BEGIN:VEVENT
UID:c15c6c03-d0c8-4ef4-8c52-72552eaa1d82
DTSTAMP:20260422T233327Z
DESCRIPTION:This years theme is 'Circus of Curiosities'. Doors at the Ted F
 erry Civic Center open at 7pm\, the show starts at 8pm. All seats are rese
 rved this year for the Gala performances!!\n\nTickets are still available 
 for the Thursday Night Opening Gala performance\, January 31st. Thursday's
  performance features a champagne and chocolate extravaganza for the audie
 nce! In addition\, along with fine wines donated by Specialty Imports\, we
  will be featuring Ketchikan's two new breweries\; Bawden Street Brewing a
 nd Baleen Brewing Co. Yummy!!! You can get tickets from the link below and
  pick out the seats of you choice - or you can give us a call and we will 
 help you make your purchase!\n\nTickets are also still available for the S
 aturday afternoon All Ages Matinee! These seats are not reserved\, please 
 call the Arts Council to get your ticket!  225-2211\n\n**Please Note**  Ou
 tside alcohol is not allowed into the Ted Ferry Civic Center during the We
 arable Art Show. If you are found to have outside alcohol inside the venue
 \, you will be asked to throw it away or to leave the premises. \n\nThe Ke
 tchikan Area Arts and Humanities Council is excited to partner with 49th S
 tate Security Services this year to make sure we are all safe and happy du
 ring the Wearable Art Show!!!
DTSTART;TZID=America/Anchorage:20190131T200000
DTEND;TZID=America/Anchorage:20190131T223000
LOCATION:Ted Ferry Civic Center
SUMMARY:33rd Annual Wearable Art Show GALA
END:VEVENT
END:VCALENDAR
