BEGIN:VCALENDAR
VERSION:2.0
PRODID:-//www.ketchikanarts.org//NONSGML kigkonsult.se iCalcreator 2.30.10/
 /
CALSCALE:GREGORIAN
METHOD:PUBLISH
UID:11dc2426-2835-4c12-9c2a-ce44f913e607
X-WR-CALDESC:
X-WR-RELCALID:726d71d25d16505b22876dba77604381
X-WR-TIMEZONE:America/Anchorage
BEGIN:VTIMEZONE
TZID:America/Anchorage
BEGIN:STANDARD
TZNAME:AKST
DTSTART:20181104T020000
TZOFFSETFROM:-0800
TZOFFSETTO:-0900
RDATE:20191103T020000
END:STANDARD
BEGIN:DAYLIGHT
TZNAME:AKDT
DTSTART:20180311T020000
TZOFFSETFROM:-0900
TZOFFSETTO:-0800
RDATE:20190310T020000
RDATE:20200308T020000
END:DAYLIGHT
END:VTIMEZONE
BEGIN:VEVENT
UID:ccd9a68c-f547-4efa-97c9-dc8877b75ad6
DTSTAMP:20260422T232922Z
DESCRIPTION:
DTSTART;TZID=America/Anchorage:20190128T153000
DTEND;TZID=America/Anchorage:20190128T173000
LOCATION:Ketchikan Public Library
SUMMARY:Manga Drawing Classes
END:VEVENT
END:VCALENDAR
