BEGIN:VCALENDAR
VERSION:2.0
PRODID:-//www.ketchikanarts.org//NONSGML kigkonsult.se iCalcreator 2.30.10/
 /
CALSCALE:GREGORIAN
METHOD:PUBLISH
UID:fc844498-2f21-4361-818c-233e5f52422d
X-WR-CALDESC:Robert Burns Supper Celebration is hosted by the Misty Thistle
  Pipes and Drums. Delicious food (including - yes\, hagis!) is the fare - 
 bring your own libations! Tickets available at the Arts Council or at the 
 door. Single $25\, Couples $40
X-WR-RELCALID:dd0f4afff9ba851535396e81ceceb6b8
X-WR-TIMEZONE:America/Anchorage
BEGIN:VTIMEZONE
TZID:America/Anchorage
BEGIN:STANDARD
TZNAME:AKST
DTSTART:20181104T020000
TZOFFSETFROM:-0800
TZOFFSETTO:-0900
RDATE:20191103T020000
END:STANDARD
BEGIN:DAYLIGHT
TZNAME:AKDT
DTSTART:20180311T020000
TZOFFSETFROM:-0900
TZOFFSETTO:-0800
RDATE:20190310T020000
RDATE:20200308T020000
END:DAYLIGHT
END:VTIMEZONE
BEGIN:VEVENT
UID:c364d3cf-beaf-4f5c-8da6-33f1a37b9cf0
DTSTAMP:20260422T232922Z
DESCRIPTION:Robert Burns Supper Celebration is hosted by the Misty Thistle 
 Pipes and Drums. Delicious food (including - yes\, hagis!) is the fare - b
 ring your own libations! Tickets available at the Arts Council or at the d
 oor. Single $25\, Couples $40
DTSTART;TZID=America/Anchorage:20190126T170000
DTEND;TZID=America/Anchorage:20190126T220000
LOCATION:American Legion Hall Post #3
SUMMARY:Robert Burns Supper!!!
END:VEVENT
END:VCALENDAR
