BEGIN:VCALENDAR
VERSION:2.0
PRODID:-//www.ketchikanarts.org//NONSGML kigkonsult.se iCalcreator 2.30.10/
 /
CALSCALE:GREGORIAN
METHOD:PUBLISH
UID:97b23954-c7b8-4e09-b06a-9fddd4c91560
X-WR-CALDESC:
X-WR-RELCALID:5f67b16602e0c8f0006bc3c61b011eca
X-WR-TIMEZONE:America/Anchorage
BEGIN:VTIMEZONE
TZID:America/Anchorage
BEGIN:STANDARD
TZNAME:AKST
DTSTART:20181104T020000
TZOFFSETFROM:-0800
TZOFFSETTO:-0900
RDATE:20191103T020000
END:STANDARD
BEGIN:DAYLIGHT
TZNAME:AKDT
DTSTART:20180311T020000
TZOFFSETFROM:-0900
TZOFFSETTO:-0800
RDATE:20190310T020000
RDATE:20200308T020000
END:DAYLIGHT
END:VTIMEZONE
BEGIN:VEVENT
UID:c80a007f-c611-4051-aa9a-b743d2e7b1af
DTSTAMP:20260422T233204Z
DESCRIPTION:
DTSTART;TZID=America/Anchorage:20190126T200000
DTEND;TZID=America/Anchorage:20190126T230000
LOCATION:Creek Street Cabaret
SUMMARY:BOOMbal Dance Hall Swing Dance
END:VEVENT
END:VCALENDAR
