BEGIN:VCALENDAR
VERSION:2.0
PRODID:-//www.ketchikanarts.org//NONSGML kigkonsult.se iCalcreator 2.30.10/
 /
CALSCALE:GREGORIAN
METHOD:PUBLISH
UID:3593a145-6af5-4139-b8da-381524359b5e
X-WR-CALDESC:Friday\, January 25: In the shadow of Dhaliguiri: medical clin
 ics in eastern Dolpo Region\, Nepal\, fall 2018\n\nLocal Dr. Peter Rice wa
 s privileged to be part of a combined Nepali and Western medical team\, th
 at traveled to the eastern part of Dolpo region\, Nepal. For nearly 4 week
 s\, they conducted medical clinics in six of the highest\, poorest\, and m
 ost remote villages in Nepal. They saw over 1000 patients\, in villages be
 tween 11\,000 and 14\,500 feet\; providing dental\, women’s health care\, 
 pediatric and general adult care\; and distributing solar lights\, reading
  glasses and sunglasses. Follow the doctors as they visit many monasteries
  along the way with Rinpoche Dolpu Tulku\, the Buddhist leader for the reg
 ion along with three other monks.
X-WR-RELCALID:dc25cd35c3fb6402ff9bd1d99862f389
X-WR-TIMEZONE:America/Anchorage
BEGIN:VTIMEZONE
TZID:America/Anchorage
BEGIN:STANDARD
TZNAME:AKST
DTSTART:20181104T020000
TZOFFSETFROM:-0800
TZOFFSETTO:-0900
RDATE:20191103T020000
END:STANDARD
BEGIN:DAYLIGHT
TZNAME:AKDT
DTSTART:20180311T020000
TZOFFSETFROM:-0900
TZOFFSETTO:-0800
RDATE:20190310T020000
RDATE:20200308T020000
END:DAYLIGHT
END:VTIMEZONE
BEGIN:VEVENT
UID:f5f94f5e-9f4d-4f24-a686-8665e2251727
DTSTAMP:20260422T232933Z
DESCRIPTION:Friday\, January 25: In the shadow of Dhaliguiri: medical clini
 cs in eastern Dolpo Region\, Nepal\, fall 2018\n\nLocal Dr. Peter Rice was
  privileged to be part of a combined Nepali and Western medical team\, tha
 t traveled to the eastern part of Dolpo region\, Nepal. For nearly 4 weeks
 \, they conducted medical clinics in six of the highest\, poorest\, and mo
 st remote villages in Nepal. They saw over 1000 patients\, in villages bet
 ween 11\,000 and 14\,500 feet\; providing dental\, women’s health care\, p
 ediatric and general adult care\; and distributing solar lights\, reading 
 glasses and sunglasses. Follow the doctors as they visit many monasteries 
 along the way with Rinpoche Dolpu Tulku\, the Buddhist leader for the regi
 on along with three other monks.
DTSTART;TZID=America/Anchorage:20190125T180000
DTEND;TZID=America/Anchorage:20190125T193000
LOCATION:Southeast Alaska Discovery Center
SUMMARY:Friday Night Insights
END:VEVENT
END:VCALENDAR
