BEGIN:VCALENDAR
VERSION:2.0
PRODID:-//www.ketchikanarts.org//NONSGML kigkonsult.se iCalcreator 2.30.10/
 /
CALSCALE:GREGORIAN
METHOD:PUBLISH
UID:d3a9482a-12e3-41c1-9c6f-29390f69e21c
X-WR-CALDESC:Please click below and download the Gallery Application instru
 ctions. \n\nThe Main Street Gallery hosts 11 exhibits each year from Septe
 mber through August\, and displays a wide variety of mediums in Solo\, Gro
 up\, \nInvitational and Open Call exhibits from local and national artists
 \, as well as traveling exhibits. \n\nTHE MAIN STREET GALLERY IS YEAR-ROUN
 D FINE ART EXHIBIT SPACE COMMITTED TO:\n\nProviding exhibit opportunities 
 for both emerging and established artists\;\nExposing the Ketchikan area c
 ommunity to a broad variety of visual art forms\;\nEncouraging local parti
 cipation and appreciation of the arts\; \nNurturing community artist devel
 opment\; and\nProviding an encouraging environment for innovative art form
 s.
X-WR-RELCALID:a39448aa3d2209710a390b184aa030ba
X-WR-TIMEZONE:America/Anchorage
BEGIN:VTIMEZONE
TZID:America/Anchorage
BEGIN:STANDARD
TZNAME:AKST
DTSTART:20181104T020000
TZOFFSETFROM:-0800
TZOFFSETTO:-0900
RDATE:20191103T020000
END:STANDARD
BEGIN:DAYLIGHT
TZNAME:AKDT
DTSTART:20180311T020000
TZOFFSETFROM:-0900
TZOFFSETTO:-0800
RDATE:20190310T020000
RDATE:20200308T020000
END:DAYLIGHT
END:VTIMEZONE
BEGIN:VEVENT
UID:51d82996-ace2-4231-8633-e27029d66782
DTSTAMP:20260422T204858Z
DESCRIPTION:Please click below and download the Gallery Application instruc
 tions. \n\nThe Main Street Gallery hosts 11 exhibits each year from Septem
 ber through August\, and displays a wide variety of mediums in Solo\, Grou
 p\, \nInvitational and Open Call exhibits from local and national artists\
 , as well as traveling exhibits. \n\nTHE MAIN STREET GALLERY IS YEAR-ROUND
  FINE ART EXHIBIT SPACE COMMITTED TO:\n\nProviding exhibit opportunities f
 or both emerging and established artists\;\nExposing the Ketchikan area co
 mmunity to a broad variety of visual art forms\;\nEncouraging local partic
 ipation and appreciation of the arts\; \nNurturing community artist develo
 pment\; and\nProviding an encouraging environment for innovative art forms
 .
DTSTART;TZID=America/Anchorage:20190124T090000
DTEND;TZID=America/Anchorage:20190301T170000
LOCATION:Main Street Gallery
SUMMARY:Main Street Gallery Call for Exhibit Proposals!!!
END:VEVENT
END:VCALENDAR
