BEGIN:VCALENDAR
VERSION:2.0
PRODID:-//www.ketchikanarts.org//NONSGML kigkonsult.se iCalcreator 2.30.10/
 /
CALSCALE:GREGORIAN
METHOD:PUBLISH
UID:fbfbe2a6-83c6-424f-b9e1-88d7b163dd22
X-WR-CALDESC:
X-WR-RELCALID:4b75d322071d3acc943061ffdb8cf176
X-WR-TIMEZONE:America/Anchorage
BEGIN:VTIMEZONE
TZID:America/Anchorage
BEGIN:STANDARD
TZNAME:AKST
DTSTART:20181104T020000
TZOFFSETFROM:-0800
TZOFFSETTO:-0900
RDATE:20191103T020000
END:STANDARD
BEGIN:DAYLIGHT
TZNAME:AKDT
DTSTART:20180311T020000
TZOFFSETFROM:-0900
TZOFFSETTO:-0800
RDATE:20190310T020000
RDATE:20200308T020000
END:DAYLIGHT
END:VTIMEZONE
BEGIN:VEVENT
UID:a7eaa988-1558-4176-854a-4c989bff89f3
DTSTAMP:20260422T232932Z
DESCRIPTION:
DTSTART;TZID=America/Anchorage:20190120T190000
DTEND;TZID=America/Anchorage:20190120T220000
LOCATION:North Tongass Community Center
SUMMARY:John Craigie
END:VEVENT
END:VCALENDAR
