BEGIN:VCALENDAR
VERSION:2.0
PRODID:-//www.ketchikanarts.org//NONSGML kigkonsult.se iCalcreator 2.30.10/
 /
CALSCALE:GREGORIAN
METHOD:PUBLISH
UID:6df30113-8eca-428a-b65d-e9ee57add916
X-WR-CALDESC:Friday\, January 18: Tom and Ray’s Excellent Adventures in a L
 and Down Under\n\nIn the spring of 2018 Tom Fowler and Ray Troll traveled 
 to Australia with their much\, much better halves Nycole and Michelle. The
  four of them managed to pack a lot in as they traveled the east coast of 
 the magical land called Oz. Besides drinking a lot of fine local wine\, th
 ey snorkeled and scuba dived on the Great Barrier Reef\, fondled Koala bea
 rs\, dodged salt water crocodiles\, endured humiliations by giant fruit ea
 ting bats and hung out with their favorite ventriloquist.
X-WR-RELCALID:8a5ccc5b37418e03511fa766428a17ba
X-WR-TIMEZONE:America/Anchorage
BEGIN:VTIMEZONE
TZID:America/Anchorage
BEGIN:STANDARD
TZNAME:AKST
DTSTART:20181104T020000
TZOFFSETFROM:-0800
TZOFFSETTO:-0900
RDATE:20191103T020000
END:STANDARD
BEGIN:DAYLIGHT
TZNAME:AKDT
DTSTART:20180311T020000
TZOFFSETFROM:-0900
TZOFFSETTO:-0800
RDATE:20190310T020000
RDATE:20200308T020000
END:DAYLIGHT
END:VTIMEZONE
BEGIN:VEVENT
UID:e03b8ac1-ea96-4c25-9736-8af6630ed172
DTSTAMP:20260422T232921Z
DESCRIPTION:Friday\, January 18: Tom and Ray’s Excellent Adventures in a La
 nd Down Under\n\nIn the spring of 2018 Tom Fowler and Ray Troll traveled t
 o Australia with their much\, much better halves Nycole and Michelle. The 
 four of them managed to pack a lot in as they traveled the east coast of t
 he magical land called Oz. Besides drinking a lot of fine local wine\, the
 y snorkeled and scuba dived on the Great Barrier Reef\, fondled Koala bear
 s\, dodged salt water crocodiles\, endured humiliations by giant fruit eat
 ing bats and hung out with their favorite ventriloquist.
DTSTART;TZID=America/Anchorage:20190118T180000
DTEND;TZID=America/Anchorage:20190118T193000
LOCATION:Southeast Alaska Discovery Center
SUMMARY:Friday Night Insights
END:VEVENT
END:VCALENDAR
