BEGIN:VCALENDAR
VERSION:2.0
PRODID:-//www.ketchikanarts.org//NONSGML kigkonsult.se iCalcreator 2.30.10/
 /
CALSCALE:GREGORIAN
METHOD:PUBLISH
UID:383140cf-d552-4f95-aded-f88d805cb3c7
X-WR-CALDESC:Tickets - Adults $35\, Youth/Senior and Military $30
X-WR-RELCALID:3881a118bb4da183d5f3bec9add11a23
X-WR-TIMEZONE:America/Anchorage
BEGIN:VTIMEZONE
TZID:America/Anchorage
BEGIN:STANDARD
TZNAME:AKST
DTSTART:20181104T020000
TZOFFSETFROM:-0800
TZOFFSETTO:-0900
RDATE:20191103T020000
END:STANDARD
BEGIN:DAYLIGHT
TZNAME:AKDT
DTSTART:20180311T020000
TZOFFSETFROM:-0900
TZOFFSETTO:-0800
RDATE:20190310T020000
RDATE:20200308T020000
END:DAYLIGHT
END:VTIMEZONE
BEGIN:VEVENT
UID:bda97d78-bd55-4f0f-9562-71c20a968c97
DTSTAMP:20260422T233204Z
DESCRIPTION:Tickets - Adults $35\, Youth/Senior and Military $30
DTSTART;TZID=America/Anchorage:20190118T193000
DTEND;TZID=America/Anchorage:20190118T223000
LOCATION:Ted Ferry Civic Center
SUMMARY:FCP: Jazz and Cabaret Gala
END:VEVENT
END:VCALENDAR
