BEGIN:VCALENDAR
VERSION:2.0
PRODID:-//www.ketchikanarts.org//NONSGML kigkonsult.se iCalcreator 2.30.10/
 /
CALSCALE:GREGORIAN
METHOD:PUBLISH
UID:83331fc4-aa0a-4c53-9e39-7ea568c2874a
X-WR-CALDESC:The Ketchikan Area Arts and Humanities Council Board of Direct
 ors meet the third Wednesday of the month at 5:30pm.
X-WR-RELCALID:eb0d3318182eeec4ca05ba44ce24de96
X-WR-TIMEZONE:America/Anchorage
BEGIN:VTIMEZONE
TZID:America/Anchorage
BEGIN:STANDARD
TZNAME:AKST
DTSTART:20181104T020000
TZOFFSETFROM:-0800
TZOFFSETTO:-0900
RDATE:20191103T020000
END:STANDARD
BEGIN:DAYLIGHT
TZNAME:AKDT
DTSTART:20180311T020000
TZOFFSETFROM:-0900
TZOFFSETTO:-0800
RDATE:20190310T020000
RDATE:20200308T020000
END:DAYLIGHT
END:VTIMEZONE
BEGIN:VEVENT
UID:b37cef05-fb7a-4ee5-a4b3-bf54724d4de2
DTSTAMP:20260422T233523Z
DESCRIPTION:The Ketchikan Area Arts and Humanities Council Board of Directo
 rs meet the third Wednesday of the month at 5:30pm.
DTSTART;TZID=America/Anchorage:20190116T173000
DTEND;TZID=America/Anchorage:20190116T190000
LOCATION:Main Street Gallery
SUMMARY:KAAHC Board of Directors meeting
END:VEVENT
END:VCALENDAR
