BEGIN:VCALENDAR
VERSION:2.0
PRODID:-//www.ketchikanarts.org//NONSGML kigkonsult.se iCalcreator 2.30.10/
 /
CALSCALE:GREGORIAN
METHOD:PUBLISH
UID:ce84e516-8667-424a-b155-adb4c45675e6
X-WR-CALDESC:The Ketchikan Community Chorus meets each Tuesday from 7 to 9p
 m at the Presbyterian Church.
X-WR-RELCALID:53fd3fd8b87d0cef5f7b2549b21f8953
X-WR-TIMEZONE:America/Anchorage
BEGIN:VTIMEZONE
TZID:America/Anchorage
BEGIN:STANDARD
TZNAME:AKST
DTSTART:20181104T020000
TZOFFSETFROM:-0800
TZOFFSETTO:-0900
RDATE:20191103T020000
END:STANDARD
BEGIN:DAYLIGHT
TZNAME:AKDT
DTSTART:20180311T020000
TZOFFSETFROM:-0900
TZOFFSETTO:-0800
RDATE:20190310T020000
RDATE:20200308T020000
END:DAYLIGHT
END:VTIMEZONE
BEGIN:VEVENT
UID:8e0a419e-f698-4f42-977f-17997175fae5
DTSTAMP:20260422T233444Z
DESCRIPTION:The Ketchikan Community Chorus meets each Tuesday from 7 to 9pm
  at the Presbyterian Church.
DTSTART;TZID=America/Anchorage:20190115T190000
DTEND;TZID=America/Anchorage:20190115T210000
LOCATION:Ketchikan Presbyterian Church
SUMMARY:Ketchikan Community Chorus Rehearsal
END:VEVENT
END:VCALENDAR
