BEGIN:VCALENDAR
VERSION:2.0
PRODID:-//www.ketchikanarts.org//NONSGML kigkonsult.se iCalcreator 2.30.10/
 /
CALSCALE:GREGORIAN
METHOD:PUBLISH
UID:69b2ae9a-0d14-426c-a4b9-e8e776e9b7e5
X-WR-CALDESC:Friday\, January 11: Sailing the Mighty Pacific\n Join Romanda
  Simpson\, a Clipper Round the World Yacht Race '13/14 alumni\, for storie
 s of adventure on the high seas. Having never sailed before\, Romanda jump
 ed at the chance to learn the skill and join a race around the world via s
 ailboat. She proceeded to sail over 12\,000 miles in Leg 5 and 6 of the ra
 ce\, on a route that saw the crew navigate the waters from sunny Brisbane 
 to sweltering Singapore\, pushing on up to the frigid Qingdao\, China and 
 finally across the great Pacific to San Francisco. Through stories\, pictu
 res and videos\, from the race she will share what it takes to be part of 
 the race\, offer up humbling tales of mountainous seas\, lightning strikes
 \, and brushes with nature.
X-WR-RELCALID:7bb0f79d85edd6f8fc0cfeb5bba25aa7
X-WR-TIMEZONE:America/Anchorage
BEGIN:VTIMEZONE
TZID:America/Anchorage
BEGIN:STANDARD
TZNAME:AKST
DTSTART:20181104T020000
TZOFFSETFROM:-0800
TZOFFSETTO:-0900
RDATE:20191103T020000
END:STANDARD
BEGIN:DAYLIGHT
TZNAME:AKDT
DTSTART:20180311T020000
TZOFFSETFROM:-0900
TZOFFSETTO:-0800
RDATE:20190310T020000
RDATE:20200308T020000
END:DAYLIGHT
END:VTIMEZONE
BEGIN:VEVENT
UID:ae86c54e-2b34-4dac-9c0a-8207cad66ee2
DTSTAMP:20260422T232933Z
DESCRIPTION:Friday\, January 11: Sailing the Mighty Pacific\n Join Romanda 
 Simpson\, a Clipper Round the World Yacht Race '13/14 alumni\, for stories
  of adventure on the high seas. Having never sailed before\, Romanda jumpe
 d at the chance to learn the skill and join a race around the world via sa
 ilboat. She proceeded to sail over 12\,000 miles in Leg 5 and 6 of the rac
 e\, on a route that saw the crew navigate the waters from sunny Brisbane t
 o sweltering Singapore\, pushing on up to the frigid Qingdao\, China and f
 inally across the great Pacific to San Francisco. Through stories\, pictur
 es and videos\, from the race she will share what it takes to be part of t
 he race\, offer up humbling tales of mountainous seas\, lightning strikes\
 , and brushes with nature.
DTSTART;TZID=America/Anchorage:20190111T180000
DTEND;TZID=America/Anchorage:20190111T193000
LOCATION:Southeast Alaska Discovery Center
SUMMARY:Friday Night Insights
END:VEVENT
END:VCALENDAR
