BEGIN:VCALENDAR
VERSION:2.0
PRODID:-//www.ketchikanarts.org//NONSGML kigkonsult.se iCalcreator 2.30.10/
 /
CALSCALE:GREGORIAN
METHOD:PUBLISH
UID:9a16ef6e-506a-4800-b512-763f2141d046
X-WR-CALDESC:Join the nonprofits of Ketchikan as we discuss group projects\
 , professional and organizational development opportunities\, and advocacy
 !
X-WR-RELCALID:fa9be1bc05e0a66a01286f27b3752c1b
X-WR-TIMEZONE:America/Anchorage
BEGIN:VTIMEZONE
TZID:America/Anchorage
BEGIN:STANDARD
TZNAME:AKST
DTSTART:20181104T020000
TZOFFSETFROM:-0800
TZOFFSETTO:-0900
RDATE:20191103T020000
END:STANDARD
BEGIN:DAYLIGHT
TZNAME:AKDT
DTSTART:20180311T020000
TZOFFSETFROM:-0900
TZOFFSETTO:-0800
RDATE:20190310T020000
RDATE:20200308T020000
END:DAYLIGHT
END:VTIMEZONE
BEGIN:VEVENT
UID:d9e45401-474f-478b-9a82-316e79996f8a
DTSTAMP:20260422T233339Z
DESCRIPTION:Join the nonprofits of Ketchikan as we discuss group projects\,
  professional and organizational development opportunities\, and advocacy!
DTSTART;TZID=America/Anchorage:20190110T150000
DTEND;TZID=America/Anchorage:20190110T160000
LOCATION:Ketchikan Wellness Coalition Office
SUMMARY:Strengthening Nonprofit Collaborative
END:VEVENT
END:VCALENDAR
