BEGIN:VCALENDAR
VERSION:2.0
PRODID:-//www.ketchikanarts.org//NONSGML kigkonsult.se iCalcreator 2.30.10/
 /
CALSCALE:GREGORIAN
METHOD:PUBLISH
UID:2e03175c-0a32-4f59-8ebd-493ddef0d9a3
X-WR-CALDESC:Jazz & Cabaret Workshops\nSolos in From Shower to Stage\, Grea
 t American Songbook\, Anything Goes\, & Just Jazz – workshops begin & regi
 stration deadline\n                (these classes are at 5:30 or 7:30 on J
 anuary 7\, 9\, 11\, 14\, & 16)\nDuets & Ensembles in Safety in Numbers and
  Solos in Broadway Baby – workshops begin & registration deadline\n       
          (these classes are at 5:30 or 7:30 on January 8\, 10\, & 15 and 1
 0:30 or 12:30 on January 12)\nFinal Rehearsal at the Ted Ferry Civic Cente
 r 6:00pm on January 17th \nGala performances are Friday January 18th & Sat
 urday January 19th \n
X-WR-RELCALID:8319546980bbbad98b50be9f28fa362c
X-WR-TIMEZONE:America/Anchorage
BEGIN:VTIMEZONE
TZID:America/Anchorage
BEGIN:STANDARD
TZNAME:AKST
DTSTART:20181104T020000
TZOFFSETFROM:-0800
TZOFFSETTO:-0900
RDATE:20191103T020000
END:STANDARD
BEGIN:DAYLIGHT
TZNAME:AKDT
DTSTART:20180311T020000
TZOFFSETFROM:-0900
TZOFFSETTO:-0800
RDATE:20190310T020000
RDATE:20200308T020000
END:DAYLIGHT
END:VTIMEZONE
BEGIN:VEVENT
UID:73137e5c-bb4a-4727-81ab-d723c2c155e9
DTSTAMP:20260422T233013Z
DESCRIPTION:Jazz & Cabaret Workshops\nSolos in From Shower to Stage\, Great
  American Songbook\, Anything Goes\, & Just Jazz – workshops begin & regis
 tration deadline\n                (these classes are at 5:30 or 7:30 on Ja
 nuary 7\, 9\, 11\, 14\, & 16)\nDuets & Ensembles in Safety in Numbers and 
 Solos in Broadway Baby – workshops begin & registration deadline\n        
         (these classes are at 5:30 or 7:30 on January 8\, 10\, & 15 and 10
 :30 or 12:30 on January 12)\nFinal Rehearsal at the Ted Ferry Civic Center
  6:00pm on January 17th \nGala performances are Friday January 18th & Satu
 rday January 19th \n
DTSTART;TZID=America/Anchorage:20190107T143000
DTEND;TZID=America/Anchorage:20190107T170000
LOCATION:
SUMMARY:Jazz & Cabaret Workshops
END:VEVENT
END:VCALENDAR
