BEGIN:VCALENDAR
VERSION:2.0
PRODID:-//www.ketchikanarts.org//NONSGML kigkonsult.se iCalcreator 2.30.10/
 /
CALSCALE:GREGORIAN
METHOD:PUBLISH
UID:8748f209-8f1a-4104-bb7c-c08121c1ebcc
X-WR-CALDESC:Cleo Weston was one of the founders of the Ketchikan Arts and 
 Crafts guild\, and owner of a local arts store. This curated exhibit celeb
 rates her life\, her art and her influence on artists she encouraged and m
 entored.
X-WR-RELCALID:d5e006d24103990f583337427022ce58
X-WR-TIMEZONE:America/Anchorage
BEGIN:VTIMEZONE
TZID:America/Anchorage
BEGIN:STANDARD
TZNAME:AKST
DTSTART:20181104T020000
TZOFFSETFROM:-0800
TZOFFSETTO:-0900
RDATE:20191103T020000
END:STANDARD
BEGIN:DAYLIGHT
TZNAME:AKDT
DTSTART:20180311T020000
TZOFFSETFROM:-0900
TZOFFSETTO:-0800
RDATE:20190310T020000
RDATE:20200308T020000
END:DAYLIGHT
END:VTIMEZONE
BEGIN:VEVENT
UID:1b4870ee-5a22-4128-a025-748fcc4a0d57
DTSTAMP:20260422T233524Z
DESCRIPTION:Cleo Weston was one of the founders of the Ketchikan Arts and C
 rafts guild\, and owner of a local arts store. This curated exhibit celebr
 ates her life\, her art and her influence on artists she encouraged and me
 ntored.
DTSTART;TZID=America/Anchorage:20190105T110000
DTEND;TZID=America/Anchorage:20190125T170000
LOCATION:Main Street Gallery
SUMMARY:'Cleo Weston - A Retrospective: 1930-2010' Main Street Gallery Exhi
 bit
END:VEVENT
END:VCALENDAR
