BEGIN:VCALENDAR
VERSION:2.0
PRODID:-//www.ketchikanarts.org//NONSGML kigkonsult.se iCalcreator 2.30.10/
 /
CALSCALE:GREGORIAN
METHOD:PUBLISH
UID:d1b89a50-7387-4165-a803-0ccd793fc684
X-WR-CALDESC:Cleo Weston was one of the founders of the Ketchikan Arts and 
 Crafts guild\, and owner of a local arts store. This curated exhibit celeb
 rates her life\, her art and her influence on artists she encouraged and m
 entored.  Main Street Gallery Openings are always the first Friday of the 
 month and are free and open to the public.
X-WR-RELCALID:71c4ae157b01a1baec27c47e27fd3eb9
X-WR-TIMEZONE:America/Anchorage
BEGIN:VTIMEZONE
TZID:America/Anchorage
BEGIN:STANDARD
TZNAME:AKST
DTSTART:20181104T020000
TZOFFSETFROM:-0800
TZOFFSETTO:-0900
RDATE:20191103T020000
END:STANDARD
BEGIN:DAYLIGHT
TZNAME:AKDT
DTSTART:20180311T020000
TZOFFSETFROM:-0900
TZOFFSETTO:-0800
RDATE:20190310T020000
RDATE:20200308T020000
END:DAYLIGHT
END:VTIMEZONE
BEGIN:VEVENT
UID:306fdc49-82e8-4287-8184-18a0b44a9d9b
DTSTAMP:20260422T233204Z
DESCRIPTION:Cleo Weston was one of the founders of the Ketchikan Arts and C
 rafts guild\, and owner of a local arts store. This curated exhibit celebr
 ates her life\, her art and her influence on artists she encouraged and me
 ntored.  Main Street Gallery Openings are always the first Friday of the m
 onth and are free and open to the public.
DTSTART;TZID=America/Anchorage:20190104T170000
DTEND;TZID=America/Anchorage:20190104T190000
LOCATION:Main Street Gallery
SUMMARY:Opening Reception - 'Cleo Weston - A Retrospective: 1930-2010'
END:VEVENT
END:VCALENDAR
