BEGIN:VCALENDAR
VERSION:2.0
PRODID:-//www.ketchikanarts.org//NONSGML kigkonsult.se iCalcreator 2.30.10/
 /
CALSCALE:GREGORIAN
METHOD:PUBLISH
UID:3e514fa4-7e78-48c3-80f4-3b26957d92ff
X-WR-CALDESC:KAAHC is closed in observance of the Brand New Year!!!
X-WR-RELCALID:5a36d4d55da923d1ea5bb907decf0855
X-WR-TIMEZONE:America/Los_Angeles
BEGIN:VTIMEZONE
TZID:America/Los_Angeles
BEGIN:STANDARD
TZNAME:PST
DTSTART:20181104T020000
TZOFFSETFROM:-0700
TZOFFSETTO:-0800
RDATE:20191103T020000
END:STANDARD
BEGIN:DAYLIGHT
TZNAME:PDT
DTSTART:20180311T020000
TZOFFSETFROM:-0800
TZOFFSETTO:-0700
RDATE:20190310T020000
RDATE:20200308T020000
END:DAYLIGHT
END:VTIMEZONE
BEGIN:VEVENT
UID:3ca65444-1f5a-4e63-9b51-e482cf783e12
DTSTAMP:20260423T011339Z
DESCRIPTION:KAAHC is closed in observance of the Brand New Year!!!
DTSTART;TZID=America/Los_Angeles:20181231T090000
DTEND;TZID=America/Los_Angeles:20190101T180000
LOCATION:Main Street Gallery
SUMMARY:KAAHC Closed
END:VEVENT
END:VCALENDAR
