BEGIN:VCALENDAR
VERSION:2.0
PRODID:-//www.ketchikanarts.org//NONSGML kigkonsult.se iCalcreator 2.30.10/
 /
CALSCALE:GREGORIAN
METHOD:PUBLISH
UID:f46aa663-96d2-4c41-9f03-64cf911f0195
X-WR-CALDESC:This meeting is the Rainy Day Quilt guild is a monthly meeting
 . The group meets in the basement room of the church beginning at 6:30pm o
 n the 4th Tuesday of the month.
X-WR-RELCALID:7e2c1016e0a87016628f213cee0ebcd0
X-WR-TIMEZONE:America/Anchorage
BEGIN:VTIMEZONE
TZID:America/Anchorage
BEGIN:STANDARD
TZNAME:AKST
DTSTART:20181104T020000
TZOFFSETFROM:-0800
TZOFFSETTO:-0900
RDATE:20191103T020000
END:STANDARD
BEGIN:DAYLIGHT
TZNAME:AKDT
DTSTART:20180311T020000
TZOFFSETFROM:-0900
TZOFFSETTO:-0800
RDATE:20190310T020000
RDATE:20200308T020000
END:DAYLIGHT
END:VTIMEZONE
BEGIN:VEVENT
UID:9bfdeffd-4e49-4511-8ef5-c902bdb01cf0
DTSTAMP:20260423T011933Z
DESCRIPTION:This meeting is the Rainy Day Quilt guild is a monthly meeting.
  The group meets in the basement room of the church beginning at 6:30pm on
  the 4th Tuesday of the month.
DTSTART;TZID=America/Anchorage:20181225T183000
DTEND;TZID=America/Anchorage:20181225T200000
LOCATION:Holy Name Catholic Church
SUMMARY:Rainy Day Quilt Guild Monthly Meeting
END:VEVENT
END:VCALENDAR
