BEGIN:VCALENDAR
VERSION:2.0
PRODID:-//www.ketchikanarts.org//NONSGML kigkonsult.se iCalcreator 2.30.10/
 /
CALSCALE:GREGORIAN
METHOD:PUBLISH
UID:63d85c0f-c3e5-4f99-8525-e9b0c7e36cc2
X-WR-CALDESC:Each week participants will discuss a short reading. Call 225-
 3331 for more information.
X-WR-RELCALID:71e70865bd4edc98753f792ee9b9deba
X-WR-TIMEZONE:America/Anchorage
BEGIN:VTIMEZONE
TZID:America/Anchorage
BEGIN:STANDARD
TZNAME:AKST
DTSTART:20181104T020000
TZOFFSETFROM:-0800
TZOFFSETTO:-0900
RDATE:20191103T020000
END:STANDARD
BEGIN:DAYLIGHT
TZNAME:AKDT
DTSTART:20180311T020000
TZOFFSETFROM:-0900
TZOFFSETTO:-0800
RDATE:20190310T020000
RDATE:20200308T020000
END:DAYLIGHT
END:VTIMEZONE
BEGIN:VEVENT
UID:c9890bcc-6e54-489f-abb6-bfbb28cf54c3
DTSTAMP:20260423T011514Z
DESCRIPTION:Each week participants will discuss a short reading. Call 225-3
 331 for more information.
DTSTART;TZID=America/Anchorage:20181217T120000
DTEND;TZID=America/Anchorage:20181217T130000
LOCATION:Ketchikan Public Library
SUMMARY:Social Justice Reading Group
END:VEVENT
END:VCALENDAR
