BEGIN:VCALENDAR
VERSION:2.0
PRODID:-//www.ketchikanarts.org//NONSGML kigkonsult.se iCalcreator 2.30.10/
 /
CALSCALE:GREGORIAN
METHOD:PUBLISH
UID:9bb33db1-41ac-4baa-99c7-4c068466d35e
X-WR-CALDESC:Join artist Kerri Hudlin and learn how to 'Pour Art' in a rela
 xed setting with friends! Classes are $30 per student in advance or $40 th
 e week of the class. Call early to reserved your spot!!! 907-225-2211
X-WR-RELCALID:8c65aef1fa436ab4a0b1a13351a4cf6b
X-WR-TIMEZONE:America/Anchorage
BEGIN:VTIMEZONE
TZID:America/Anchorage
BEGIN:STANDARD
TZNAME:AKST
DTSTART:20181104T020000
TZOFFSETFROM:-0800
TZOFFSETTO:-0900
RDATE:20191103T020000
END:STANDARD
BEGIN:DAYLIGHT
TZNAME:AKDT
DTSTART:20180311T020000
TZOFFSETFROM:-0900
TZOFFSETTO:-0800
RDATE:20190310T020000
RDATE:20200308T020000
END:DAYLIGHT
END:VTIMEZONE
BEGIN:VEVENT
UID:13565c06-033d-4acb-85b1-2230addb7180
DTSTAMP:20260423T011756Z
DESCRIPTION:Join artist Kerri Hudlin and learn how to 'Pour Art' in a relax
 ed setting with friends! Classes are $30 per student in advance or $40 the
  week of the class. Call early to reserved your spot!!! 907-225-2211
DTSTART;TZID=America/Anchorage:20181214T190000
DTEND;TZID=America/Anchorage:20181214T210000
LOCATION:Main Street Gallery
SUMMARY:Arts Uncorked: Pour Art with Kerri Hudlin
END:VEVENT
END:VCALENDAR
