BEGIN:VCALENDAR
VERSION:2.0
PRODID:-//www.ketchikanarts.org//NONSGML kigkonsult.se iCalcreator 2.30.10/
 /
CALSCALE:GREGORIAN
METHOD:PUBLISH
UID:66f1ff11-c4f1-46aa-b4d5-1ab1dfd137e0
X-WR-CALDESC:
X-WR-RELCALID:36aa1aa2eb21b2abff9f9b78d017595e
X-WR-TIMEZONE:America/Anchorage
BEGIN:VTIMEZONE
TZID:America/Anchorage
BEGIN:STANDARD
TZNAME:AKST
DTSTART:20181104T020000
TZOFFSETFROM:-0800
TZOFFSETTO:-0900
RDATE:20191103T020000
END:STANDARD
BEGIN:DAYLIGHT
TZNAME:AKDT
DTSTART:20180311T020000
TZOFFSETFROM:-0900
TZOFFSETTO:-0800
RDATE:20190310T020000
RDATE:20200308T020000
END:DAYLIGHT
END:VTIMEZONE
BEGIN:VEVENT
UID:16723d37-53d9-42fb-9268-ba3d636e85a6
DTSTAMP:20260423T011313Z
DESCRIPTION:
DTSTART;TZID=America/Anchorage:20181214T190000
DTEND;TZID=America/Anchorage:20181214T210000
LOCATION:Creek Street Cabaret
SUMMARY:Alaska Square Dance
END:VEVENT
END:VCALENDAR
