BEGIN:VCALENDAR
VERSION:2.0
PRODID:-//www.ketchikanarts.org//NONSGML kigkonsult.se iCalcreator 2.30.10/
 /
CALSCALE:GREGORIAN
METHOD:PUBLISH
UID:90f7e822-9e54-4bee-87ad-ba14a04d4764
X-WR-CALDESC:This concert will feature the entire music department. This in
 cludes the beginning band\, concert band\, symphonic band\, choir\, and ja
 zz bands. All are invited and encouraged to attend!
X-WR-RELCALID:2723b170bf8b64bdac47b1613479d7ed
X-WR-TIMEZONE:America/Anchorage
BEGIN:VTIMEZONE
TZID:America/Anchorage
BEGIN:STANDARD
TZNAME:AKST
DTSTART:20181104T020000
TZOFFSETFROM:-0800
TZOFFSETTO:-0900
RDATE:20191103T020000
END:STANDARD
BEGIN:DAYLIGHT
TZNAME:AKDT
DTSTART:20180311T020000
TZOFFSETFROM:-0900
TZOFFSETTO:-0800
RDATE:20190310T020000
RDATE:20200308T020000
END:DAYLIGHT
END:VTIMEZONE
BEGIN:VEVENT
UID:988bef82-1ade-4b85-8dc9-0d31e87bf4a6
DTSTAMP:20260423T011821Z
DESCRIPTION:This concert will feature the entire music department. This inc
 ludes the beginning band\, concert band\, symphonic band\, choir\, and jaz
 z bands. All are invited and encouraged to attend!
DTSTART;TZID=America/Anchorage:20181213T190000
DTEND;TZID=America/Anchorage:20181213T200000
LOCATION:Kayhi Auditorium
SUMMARY:Schoenbar Middle School Winter Concert
END:VEVENT
END:VCALENDAR
