BEGIN:VCALENDAR
VERSION:2.0
PRODID:-//www.ketchikanarts.org//NONSGML kigkonsult.se iCalcreator 2.30.10/
 /
CALSCALE:GREGORIAN
METHOD:PUBLISH
UID:1fd8e61b-36eb-474b-9d68-1b5141a1fdd7
X-WR-CALDESC:Kayhi music students winter performance! Band\, choir and jazz
  ensembles perform.
X-WR-RELCALID:74cd83614c0523a49b3d33c26d4b358a
X-WR-TIMEZONE:America/Anchorage
BEGIN:VTIMEZONE
TZID:America/Anchorage
BEGIN:STANDARD
TZNAME:AKST
DTSTART:20181104T020000
TZOFFSETFROM:-0800
TZOFFSETTO:-0900
RDATE:20191103T020000
END:STANDARD
BEGIN:DAYLIGHT
TZNAME:AKDT
DTSTART:20180311T020000
TZOFFSETFROM:-0900
TZOFFSETTO:-0800
RDATE:20190310T020000
RDATE:20200308T020000
END:DAYLIGHT
END:VTIMEZONE
BEGIN:VEVENT
UID:e2efb709-47be-44bf-a28c-39104e920496
DTSTAMP:20260423T011604Z
DESCRIPTION:Kayhi music students winter performance! Band\, choir and jazz 
 ensembles perform.
DTSTART;TZID=America/Anchorage:20181211T190000
DTEND;TZID=America/Anchorage:20181211T200000
LOCATION:Kayhi Auditorium
SUMMARY:Kayhi Band and Choir performance
END:VEVENT
END:VCALENDAR
