BEGIN:VCALENDAR
VERSION:2.0
PRODID:-//www.ketchikanarts.org//NONSGML kigkonsult.se iCalcreator 2.30.10/
 /
CALSCALE:GREGORIAN
METHOD:PUBLISH
UID:2071ddd6-a490-47a6-9ab3-fd8a6e313827
X-WR-CALDESC:
X-WR-RELCALID:a69d73da3e98bac6ee112a95d64f9dbe
X-WR-TIMEZONE:America/Anchorage
BEGIN:VTIMEZONE
TZID:America/Anchorage
BEGIN:STANDARD
TZNAME:AKST
DTSTART:20181104T020000
TZOFFSETFROM:-0800
TZOFFSETTO:-0900
RDATE:20191103T020000
END:STANDARD
BEGIN:DAYLIGHT
TZNAME:AKDT
DTSTART:20180311T020000
TZOFFSETFROM:-0900
TZOFFSETTO:-0800
RDATE:20190310T020000
RDATE:20200308T020000
END:DAYLIGHT
END:VTIMEZONE
BEGIN:VEVENT
UID:b0f9555f-f8ab-4bbf-929d-1528fa670ac5
DTSTAMP:20260423T011943Z
DESCRIPTION:
DTSTART;TZID=America/Anchorage:20181211T183000
DTEND;TZID=America/Anchorage:20181211T200000
LOCATION:UAS Campus Library
SUMMARY:Ask UAS - 'On their Own - Support for and Acceptance of Authoritari
 anism and Putin in Russia' with Brandon Chapman
END:VEVENT
END:VCALENDAR
