BEGIN:VCALENDAR
VERSION:2.0
PRODID:-//www.ketchikanarts.org//NONSGML kigkonsult.se iCalcreator 2.30.10/
 /
CALSCALE:GREGORIAN
METHOD:PUBLISH
UID:a641006a-f9ea-445b-a6b3-2e0371a7e702
X-WR-CALDESC:Class party for BOOMbal Dance Hall !!!!!!!!!!!!!!!!!  \n\n7:00
  to 8:15pm
X-WR-RELCALID:786f8abef9f74ccb800892abb98273a9
X-WR-TIMEZONE:America/Anchorage
BEGIN:VTIMEZONE
TZID:America/Anchorage
BEGIN:STANDARD
TZNAME:AKST
DTSTART:20181104T020000
TZOFFSETFROM:-0800
TZOFFSETTO:-0900
RDATE:20191103T020000
END:STANDARD
BEGIN:DAYLIGHT
TZNAME:AKDT
DTSTART:20180311T020000
TZOFFSETFROM:-0900
TZOFFSETTO:-0800
RDATE:20190310T020000
RDATE:20200308T020000
END:DAYLIGHT
END:VTIMEZONE
BEGIN:VEVENT
UID:dfd0502f-c734-40da-8d42-b5ca3c8b681d
DTSTAMP:20260423T011604Z
DESCRIPTION:Class party for BOOMbal Dance Hall !!!!!!!!!!!!!!!!!  \n\n7:00 
 to 8:15pm
DTSTART;TZID=America/Anchorage:20181210T190000
DTEND;TZID=America/Anchorage:20181210T201500
LOCATION:Main Street Gallery
SUMMARY:BOOMbal Dancehall Class PARTY!!!
END:VEVENT
END:VCALENDAR
