BEGIN:VCALENDAR
VERSION:2.0
PRODID:-//www.ketchikanarts.org//NONSGML kigkonsult.se iCalcreator 2.30.10/
 /
CALSCALE:GREGORIAN
METHOD:PUBLISH
UID:0a34a1e4-6391-4c40-90f2-ca8248067bf0
X-WR-CALDESC:The Annual Ketchikan Community Chorus performance will inspire
  you for the holiday season. This is a ticketed event.
X-WR-RELCALID:a39fbbf88185bc54a171c65e8a13442c
X-WR-TIMEZONE:America/Anchorage
BEGIN:VTIMEZONE
TZID:America/Anchorage
BEGIN:STANDARD
TZNAME:AKST
DTSTART:20181104T020000
TZOFFSETFROM:-0800
TZOFFSETTO:-0900
RDATE:20191103T020000
END:STANDARD
BEGIN:DAYLIGHT
TZNAME:AKDT
DTSTART:20180311T020000
TZOFFSETFROM:-0900
TZOFFSETTO:-0800
RDATE:20190310T020000
RDATE:20200308T020000
END:DAYLIGHT
END:VTIMEZONE
BEGIN:VEVENT
UID:720b268c-f98f-45c7-b249-a64100ce0a21
DTSTAMP:20260423T011501Z
DESCRIPTION:The Annual Ketchikan Community Chorus performance will inspire 
 you for the holiday season. This is a ticketed event.
DTSTART;TZID=America/Anchorage:20181208T190000
DTEND;TZID=America/Anchorage:20181208T210000
LOCATION:Ketchikan Presbyterian Church
SUMMARY:Ketchikan Community Chorus
END:VEVENT
END:VCALENDAR
