BEGIN:VCALENDAR
VERSION:2.0
PRODID:-//www.ketchikanarts.org//NONSGML kigkonsult.se iCalcreator 2.30.10/
 /
CALSCALE:GREGORIAN
METHOD:PUBLISH
UID:bdc202fe-448f-412c-900e-dea82d0634e9
X-WR-CALDESC:The Ketchikan Youth in Art is a multi-media open-call exhibit 
 inviting area youth to display their work\, celebrating the arts in our sc
 hools and our community. The exhibit runs Friday\, December 7th through Fr
 iday\, December 14th. Main Street Gallery Openings are always the first Fr
 iday of the month and are free and open to the public.
X-WR-RELCALID:791d95a397cd418cb5f53ddeaed142e6
X-WR-TIMEZONE:America/Anchorage
BEGIN:VTIMEZONE
TZID:America/Anchorage
BEGIN:STANDARD
TZNAME:AKST
DTSTART:20181104T020000
TZOFFSETFROM:-0800
TZOFFSETTO:-0900
RDATE:20191103T020000
END:STANDARD
BEGIN:DAYLIGHT
TZNAME:AKDT
DTSTART:20180311T020000
TZOFFSETFROM:-0900
TZOFFSETTO:-0800
RDATE:20190310T020000
RDATE:20200308T020000
END:DAYLIGHT
END:VTIMEZONE
BEGIN:VEVENT
UID:338097ef-fc3a-4d6e-b1f0-9e59a62fd659
DTSTAMP:20260423T011830Z
DESCRIPTION:The Ketchikan Youth in Art is a multi-media open-call exhibit i
 nviting area youth to display their work\, celebrating the arts in our sch
 ools and our community. The exhibit runs Friday\, December 7th through Fri
 day\, December 14th. Main Street Gallery Openings are always the first Fri
 day of the month and are free and open to the public.
DTSTART;TZID=America/Anchorage:20181207T170000
DTEND;TZID=America/Anchorage:20181207T200000
LOCATION:Main Street Gallery
SUMMARY:Opening Reception - 'Ketchikan Youth in Art'
END:VEVENT
END:VCALENDAR
