BEGIN:VCALENDAR
VERSION:2.0
PRODID:-//www.ketchikanarts.org//NONSGML kigkonsult.se iCalcreator 2.30.10/
 /
CALSCALE:GREGORIAN
METHOD:PUBLISH
UID:4f0adbb6-f9c2-40bf-b0d6-8a026a2063b5
X-WR-CALDESC:
X-WR-RELCALID:88bf8ba921276ba5b2558581ab8e904b
X-WR-TIMEZONE:America/Anchorage
BEGIN:VTIMEZONE
TZID:America/Anchorage
BEGIN:STANDARD
TZNAME:AKST
DTSTART:20181104T020000
TZOFFSETFROM:-0800
TZOFFSETTO:-0900
RDATE:20191103T020000
END:STANDARD
BEGIN:DAYLIGHT
TZNAME:AKDT
DTSTART:20180311T020000
TZOFFSETFROM:-0900
TZOFFSETTO:-0800
RDATE:20190310T020000
RDATE:20200308T020000
END:DAYLIGHT
END:VTIMEZONE
BEGIN:VEVENT
UID:e24cac74-8a42-4585-ac80-e2b0885a2572
DTSTAMP:20260423T011507Z
DESCRIPTION:
DTSTART;TZID=America/Anchorage:20181207T193000
DTEND;TZID=America/Anchorage:20181207T220000
LOCATION:Creek Street Cabaret
SUMMARY:3rd Annual Chet Baker Jazz Tribute
END:VEVENT
END:VCALENDAR
