BEGIN:VCALENDAR
VERSION:2.0
PRODID:-//www.ketchikanarts.org//NONSGML kigkonsult.se iCalcreator 2.30.10/
 /
CALSCALE:GREGORIAN
METHOD:PUBLISH
UID:82cf8bbd-bc41-4ca0-8216-07bdcdb93142
X-WR-CALDESC:Calling all YOUNG artists!!! See your artwork up on the Main S
 treet Gallery walls in December! Artists up to age 20 are invited to submi
 t your artwork by Friday\, November 30th at 5pm. The Ketchikan Youth in Ar
 t Exhibit Opening Reception is Friday\, December 7th from 5 to 7 pm. The e
 xhibit will be on display until Friday\, December 14th.
X-WR-RELCALID:78ea6bc7456755df1055022a7befcbd5
X-WR-TIMEZONE:America/Anchorage
BEGIN:VTIMEZONE
TZID:America/Anchorage
BEGIN:STANDARD
TZNAME:AKST
DTSTART:20181104T020000
TZOFFSETFROM:-0800
TZOFFSETTO:-0900
RDATE:20191103T020000
END:STANDARD
BEGIN:DAYLIGHT
TZNAME:AKDT
DTSTART:20180311T020000
TZOFFSETFROM:-0900
TZOFFSETTO:-0800
RDATE:20190310T020000
RDATE:20200308T020000
END:DAYLIGHT
END:VTIMEZONE
BEGIN:VEVENT
UID:262832d3-6b03-4823-b6ed-177d71457b48
DTSTAMP:20260423T030317Z
DESCRIPTION:Calling all YOUNG artists!!! See your artwork up on the Main St
 reet Gallery walls in December! Artists up to age 20 are invited to submit
  your artwork by Friday\, November 30th at 5pm. The Ketchikan Youth in Art
  Exhibit Opening Reception is Friday\, December 7th from 5 to 7 pm. The ex
 hibit will be on display until Friday\, December 14th.
DTSTART;TZID=America/Anchorage:20181130T090000
DTEND;TZID=America/Anchorage:20181130T170000
LOCATION:Main Street Gallery
SUMMARY:Art DUE for Ketchikan Youth in Art Exhibit
END:VEVENT
END:VCALENDAR
