BEGIN:VCALENDAR
VERSION:2.0
PRODID:-//www.ketchikanarts.org//NONSGML kigkonsult.se iCalcreator 2.30.10/
 /
CALSCALE:GREGORIAN
METHOD:PUBLISH
UID:c4f1bd9d-9eb0-42e9-9260-3dd33d204c43
X-WR-CALDESC:Arte Laguna srl\, in partnership with the Cultural Association
  MoCA\, organizes the 13th Edition of the International Arte Laguna Prize\
 , aimed at promoting and enhancing Contemporary Art.\nThe Prize obtained a
  medal from the President of the Italian Republic\, with the patronage of 
 the Ministry of Foreign Affairs\, the Ministry of Cultural Heritage\, the 
 Veneto Region\, the Municipality of Venice\, Ca' Foscari University of Ven
 ice and the European Institute of Design.\nThe contest features the awardi
 ng of cash prizes\, the organization of a major collective exhibition at t
 he Arsenale of Venice\, exhibitions in international Art Galleries\, colla
 borations with Companies\, Art Residencies\, inclusion into the web portal
  artelaguna.world and the publication of the Catalogue.\nThe Prize include
 s ten sections: painting\, sculpture and installation\, photographic art\,
  video art and short films\, performance\, virtual art\, digital graphics\
 , land art\, urban art and design.
X-WR-RELCALID:60fc879ccc897b00a2e8529a64f1de8b
X-WR-TIMEZONE:America/Anchorage
BEGIN:VTIMEZONE
TZID:America/Anchorage
BEGIN:STANDARD
TZNAME:AKST
DTSTART:20181104T020000
TZOFFSETFROM:-0800
TZOFFSETTO:-0900
RDATE:20191103T020000
END:STANDARD
BEGIN:DAYLIGHT
TZNAME:AKDT
DTSTART:20180311T020000
TZOFFSETFROM:-0900
TZOFFSETTO:-0800
RDATE:20190310T020000
RDATE:20200308T020000
END:DAYLIGHT
END:VTIMEZONE
BEGIN:VEVENT
UID:3a5e7954-59dd-4fc9-8768-29ee59c267ab
DTSTAMP:20260423T025633Z
DESCRIPTION:Arte Laguna srl\, in partnership with the Cultural Association 
 MoCA\, organizes the 13th Edition of the International Arte Laguna Prize\,
  aimed at promoting and enhancing Contemporary Art.\nThe Prize obtained a 
 medal from the President of the Italian Republic\, with the patronage of t
 he Ministry of Foreign Affairs\, the Ministry of Cultural Heritage\, the V
 eneto Region\, the Municipality of Venice\, Ca' Foscari University of Veni
 ce and the European Institute of Design.\nThe contest features the awardin
 g of cash prizes\, the organization of a major collective exhibition at th
 e Arsenale of Venice\, exhibitions in international Art Galleries\, collab
 orations with Companies\, Art Residencies\, inclusion into the web portal 
 artelaguna.world and the publication of the Catalogue.\nThe Prize includes
  ten sections: painting\, sculpture and installation\, photographic art\, 
 video art and short films\, performance\, virtual art\, digital graphics\,
  land art\, urban art and design.
DTSTART;TZID=America/Anchorage:20181127T143000
DTEND;TZID=America/Anchorage:20181127T153000
LOCATION:
SUMMARY:Final Exhibition Arsenal of Venice
END:VEVENT
END:VCALENDAR
