BEGIN:VCALENDAR
VERSION:2.0
PRODID:-//www.ketchikanarts.org//NONSGML kigkonsult.se iCalcreator 2.30.10/
 /
CALSCALE:GREGORIAN
METHOD:PUBLISH
UID:f8155ac0-68a1-43c6-969d-3992fc8a2573
X-WR-CALDESC:The Annual Winter Arts Faire is our winter companion to the Bl
 ueberry Arts Festival\, where community members come to see and purchase a
 rtwork from local artists. Unlike the Blueberry Arts Festival\, the 2-day 
 Winter Arts Faire features only handcrafted fine art and crafts. In its 29
 th year\, the Faire is held annually over the Thanksgiving weekend. Having
  reached maximum capacity for booth holders (and parking) at the Ted Ferry
  Civic Center and Cape Fox Lodge in downtown Ketchikan\, KAAHC decided to 
 move the Faire to the Saxman Community Center in 2017. The SCC offers more
  room for vendors\, more parking\, all the vendors are in one location\, a
 nd a large portion of the population is able to visit the Village of Saxma
 n and the Saxman Community Center. Additionally\, with the help of First B
 ank\, the Winter Arts Faire Sponsor\, we are able to provide creative acti
 vities for young people at the Faire!!!\n\nJoin us this year at the Saxman
  Community Center for the 29th Annual Winter Arts Faire!!!\n\nSaturday\, N
 ovember 24th\, 10 a.m. to 5 p.m. \nSunday\, November 25th\, 10 a.m. to 3 p
 .m.\n\n
X-WR-RELCALID:6801ad3abd3aaec16f7d4b5c486f8835
X-WR-TIMEZONE:America/Anchorage
BEGIN:VTIMEZONE
TZID:America/Anchorage
BEGIN:STANDARD
TZNAME:AKST
DTSTART:20181104T020000
TZOFFSETFROM:-0800
TZOFFSETTO:-0900
RDATE:20191103T020000
END:STANDARD
BEGIN:DAYLIGHT
TZNAME:AKDT
DTSTART:20180311T020000
TZOFFSETFROM:-0900
TZOFFSETTO:-0800
RDATE:20190310T020000
RDATE:20200308T020000
END:DAYLIGHT
END:VTIMEZONE
BEGIN:VEVENT
UID:542f4a37-6a23-454e-b306-d5072579760d
DTSTAMP:20260423T025003Z
DESCRIPTION:The Annual Winter Arts Faire is our winter companion to the Blu
 eberry Arts Festival\, where community members come to see and purchase ar
 twork from local artists. Unlike the Blueberry Arts Festival\, the 2-day W
 inter Arts Faire features only handcrafted fine art and crafts. In its 29t
 h year\, the Faire is held annually over the Thanksgiving weekend. Having 
 reached maximum capacity for booth holders (and parking) at the Ted Ferry 
 Civic Center and Cape Fox Lodge in downtown Ketchikan\, KAAHC decided to m
 ove the Faire to the Saxman Community Center in 2017. The SCC offers more 
 room for vendors\, more parking\, all the vendors are in one location\, an
 d a large portion of the population is able to visit the Village of Saxman
  and the Saxman Community Center. Additionally\, with the help of First Ba
 nk\, the Winter Arts Faire Sponsor\, we are able to provide creative activ
 ities for young people at the Faire!!!\n\nJoin us this year at the Saxman 
 Community Center for the 29th Annual Winter Arts Faire!!!\n\nSaturday\, No
 vember 24th\, 10 a.m. to 5 p.m. \nSunday\, November 25th\, 10 a.m. to 3 p.
 m.\n\n
DTSTART;TZID=America/Anchorage:20181125T100000
DTEND;TZID=America/Anchorage:20181125T150000
LOCATION:Saxman Community Center
SUMMARY:Winter Arts Faire
END:VEVENT
END:VCALENDAR
