BEGIN:VCALENDAR
VERSION:2.0
PRODID:-//www.ketchikanarts.org//NONSGML kigkonsult.se iCalcreator 2.30.10/
 /
CALSCALE:GREGORIAN
METHOD:PUBLISH
UID:a3f19094-982d-4bc1-a122-04832e2b7ebe
X-WR-CALDESC:The Arts Council will be closed in honor of Thanksgiving!  Eat
  lots of turkey!!
X-WR-RELCALID:eac81eb5babd7244ad51bd71576e8100
X-WR-TIMEZONE:America/Los_Angeles
BEGIN:VTIMEZONE
TZID:America/Los_Angeles
BEGIN:STANDARD
TZNAME:PST
DTSTART:20181104T020000
TZOFFSETFROM:-0700
TZOFFSETTO:-0800
RDATE:20191103T020000
END:STANDARD
BEGIN:DAYLIGHT
TZNAME:PDT
DTSTART:20180311T020000
TZOFFSETFROM:-0800
TZOFFSETTO:-0700
RDATE:20190310T020000
RDATE:20200308T020000
END:DAYLIGHT
END:VTIMEZONE
BEGIN:VEVENT
UID:52d1e8e3-68b0-423a-9c27-f7c30383ab9f
DTSTAMP:20260423T025411Z
DESCRIPTION:The Arts Council will be closed in honor of Thanksgiving!  Eat 
 lots of turkey!!
DTSTART;TZID=America/Los_Angeles:20181122T010000
DTEND;TZID=America/Los_Angeles:20181122T233000
LOCATION:Main Street Gallery
SUMMARY:Arts Council is Closed for Thanksgiving
END:VEVENT
END:VCALENDAR
