BEGIN:VCALENDAR
VERSION:2.0
PRODID:-//www.ketchikanarts.org//NONSGML kigkonsult.se iCalcreator 2.30.10/
 /
CALSCALE:GREGORIAN
METHOD:PUBLISH
UID:084366b0-b84f-4be9-b432-7f649cdcfc07
X-WR-CALDESC:The Ketchikan Area Arts and Humanities Council Board of Direct
 ors meet the third Wednesday of the month at 5:30pm.
X-WR-RELCALID:1d986b3ec01aefff2fbf467f36a5973f
X-WR-TIMEZONE:America/Anchorage
BEGIN:VTIMEZONE
TZID:America/Anchorage
BEGIN:STANDARD
TZNAME:AKST
DTSTART:20181104T020000
TZOFFSETFROM:-0800
TZOFFSETTO:-0900
RDATE:20191103T020000
END:STANDARD
BEGIN:DAYLIGHT
TZNAME:AKDT
DTSTART:20180311T020000
TZOFFSETFROM:-0900
TZOFFSETTO:-0800
RDATE:20190310T020000
RDATE:20200308T020000
END:DAYLIGHT
END:VTIMEZONE
BEGIN:VEVENT
UID:77529b25-cc3f-4bf2-9160-1ea6722a1ef4
DTSTAMP:20260423T030414Z
DESCRIPTION:The Ketchikan Area Arts and Humanities Council Board of Directo
 rs meet the third Wednesday of the month at 5:30pm.
DTSTART;TZID=America/Anchorage:20181121T173000
DTEND;TZID=America/Anchorage:20181121T190000
LOCATION:Main Street Gallery
SUMMARY:KAAHC Board of Directors meeting
END:VEVENT
END:VCALENDAR
