BEGIN:VCALENDAR
VERSION:2.0
PRODID:-//www.ketchikanarts.org//NONSGML kigkonsult.se iCalcreator 2.30.10/
 /
CALSCALE:GREGORIAN
METHOD:PUBLISH
UID:1ad1f67d-686a-4898-a9d5-576da3c8da73
X-WR-CALDESC:Join the Library during November for a month of writing: NaNoW
 riMo! Participants in NaNoWriMo (National Novel Writing Month) are encoura
 ged to write 50\,000 words in 30 days. (Or\, you could be a NaNo Rebel and
  write a short story\, script\, poetry\, or revise an existing project). T
 here will be weekly prizes for participants\, a Grand Prize drawing at the
  end of the month\, and lots of peer support and encouragement. The kick-o
 ff event will be Thursday\, Nov. 1. Stop in any time between 3:00 – 6:00 p
 m to WRITE\, SIGN UP for our Participation Program\, and PERUSE through a 
 selection of handouts specially picked to help you navigate through NaNoWr
 iMo. Ongoing gatherings every Thursday\, except Thanksgiving\, and every S
 unday in November. \n\nPlus join the Library on November 17th for 'A Night
  of Writing Dangerously' from 5 to 8pm.
X-WR-RELCALID:ada1ed5b65b6c0344a4be6469c24da55
X-WR-TIMEZONE:America/Anchorage
BEGIN:VTIMEZONE
TZID:America/Anchorage
BEGIN:STANDARD
TZNAME:AKST
DTSTART:20181104T020000
TZOFFSETFROM:-0800
TZOFFSETTO:-0900
RDATE:20191103T020000
END:STANDARD
BEGIN:DAYLIGHT
TZNAME:AKDT
DTSTART:20180311T020000
TZOFFSETFROM:-0900
TZOFFSETTO:-0800
RDATE:20190310T020000
RDATE:20200308T020000
END:DAYLIGHT
END:VTIMEZONE
BEGIN:VEVENT
UID:b1b0fa82-87f7-461d-9f45-e6a2bfa4110b
DTSTAMP:20260423T030554Z
DESCRIPTION:Join the Library during November for a month of writing: NaNoWr
 iMo! Participants in NaNoWriMo (National Novel Writing Month) are encourag
 ed to write 50\,000 words in 30 days. (Or\, you could be a NaNo Rebel and 
 write a short story\, script\, poetry\, or revise an existing project). Th
 ere will be weekly prizes for participants\, a Grand Prize drawing at the 
 end of the month\, and lots of peer support and encouragement. The kick-of
 f event will be Thursday\, Nov. 1. Stop in any time between 3:00 – 6:00 pm
  to WRITE\, SIGN UP for our Participation Program\, and PERUSE through a s
 election of handouts specially picked to help you navigate through NaNoWri
 Mo. Ongoing gatherings every Thursday\, except Thanksgiving\, and every Su
 nday in November. \n\nPlus join the Library on November 17th for 'A Night 
 of Writing Dangerously' from 5 to 8pm.
DTSTART;TZID=America/Anchorage:20181118T130000
DTEND;TZID=America/Anchorage:20181118T170000
LOCATION:Ketchikan Public Library
SUMMARY:National Novel Writing Month (NaNoWriMo) at the Ketchikan Public Li
 brary!
END:VEVENT
END:VCALENDAR
