BEGIN:VCALENDAR
VERSION:2.0
PRODID:-//www.ketchikanarts.org//NONSGML kigkonsult.se iCalcreator 2.30.10/
 /
CALSCALE:GREGORIAN
METHOD:PUBLISH
UID:097c4170-69df-4179-a3b1-68b0e1a7d4b5
X-WR-CALDESC:Come prepared for an evening of fun-filled writing\, complete 
 with basic munchies\, writing games\, and more!  The writing room will be 
 open at noon\, and the fun will begin at 5:00 pm.
X-WR-RELCALID:62be4972e633479c76c140014983c87f
X-WR-TIMEZONE:America/Anchorage
BEGIN:VTIMEZONE
TZID:America/Anchorage
BEGIN:STANDARD
TZNAME:AKST
DTSTART:20181104T020000
TZOFFSETFROM:-0800
TZOFFSETTO:-0900
RDATE:20191103T020000
END:STANDARD
BEGIN:DAYLIGHT
TZNAME:AKDT
DTSTART:20180311T020000
TZOFFSETFROM:-0900
TZOFFSETTO:-0800
RDATE:20190310T020000
RDATE:20200308T020000
END:DAYLIGHT
END:VTIMEZONE
BEGIN:VEVENT
UID:92e8a163-57fa-4250-9fbf-c53115a80d91
DTSTAMP:20260423T024501Z
DESCRIPTION:Come prepared for an evening of fun-filled writing\, complete w
 ith basic munchies\, writing games\, and more!  The writing room will be o
 pen at noon\, and the fun will begin at 5:00 pm.
DTSTART;TZID=America/Anchorage:20181117T170000
DTEND;TZID=America/Anchorage:20181117T200000
LOCATION:Ketchikan Public Library
SUMMARY:A Night of Writing Dangerously...
END:VEVENT
END:VCALENDAR
