BEGIN:VCALENDAR
VERSION:2.0
PRODID:-//www.ketchikanarts.org//NONSGML kigkonsult.se iCalcreator 2.30.10/
 /
CALSCALE:GREGORIAN
METHOD:PUBLISH
UID:4444304a-107e-460c-b54b-7f261166ec68
X-WR-CALDESC:Live Music Swing Dance at the Creek Street Cabaret!!!!\n\nMusi
 c by the Boombal Dance Hall band and fun for ALL!!!!!   \n\n$5 at the door
  \n\nA quick lesson and review: 7:15-8:00 pm\n\n8:00-10:00 pm Dance\, danc
 e\, dance!!!\n\n
X-WR-RELCALID:7fe3f34dc6bbebcc5ddef2d7907f1f62
X-WR-TIMEZONE:America/Anchorage
BEGIN:VTIMEZONE
TZID:America/Anchorage
BEGIN:STANDARD
TZNAME:AKST
DTSTART:20181104T020000
TZOFFSETFROM:-0800
TZOFFSETTO:-0900
RDATE:20191103T020000
END:STANDARD
BEGIN:DAYLIGHT
TZNAME:AKDT
DTSTART:20180311T020000
TZOFFSETFROM:-0900
TZOFFSETTO:-0800
RDATE:20190310T020000
RDATE:20200308T020000
END:DAYLIGHT
END:VTIMEZONE
BEGIN:VEVENT
UID:4944688b-d456-43f4-91cf-4b20c1682ed3
DTSTAMP:20260423T024509Z
DESCRIPTION:Live Music Swing Dance at the Creek Street Cabaret!!!!\n\nMusic
  by the Boombal Dance Hall band and fun for ALL!!!!!   \n\n$5 at the door 
 \n\nA quick lesson and review: 7:15-8:00 pm\n\n8:00-10:00 pm Dance\, dance
 \, dance!!!\n\n
DTSTART;TZID=America/Anchorage:20181116T191500
DTEND;TZID=America/Anchorage:20181116T220000
LOCATION:Creek Street Cabaret
SUMMARY:Live Music Swing Dance!!!!
END:VEVENT
END:VCALENDAR
