BEGIN:VCALENDAR
VERSION:2.0
PRODID:-//www.ketchikanarts.org//NONSGML kigkonsult.se iCalcreator 2.30.10/
 /
CALSCALE:GREGORIAN
METHOD:PUBLISH
UID:dcf2b5e0-d4d1-4b7d-93b0-761d01cbd25f
X-WR-CALDESC:
X-WR-RELCALID:aff1000c1836d35ecf00bc9927c33db7
X-WR-TIMEZONE:America/Anchorage
BEGIN:VTIMEZONE
TZID:America/Anchorage
BEGIN:STANDARD
TZNAME:AKST
DTSTART:20181104T020000
TZOFFSETFROM:-0800
TZOFFSETTO:-0900
RDATE:20191103T020000
END:STANDARD
BEGIN:DAYLIGHT
TZNAME:AKDT
DTSTART:20180311T020000
TZOFFSETFROM:-0900
TZOFFSETTO:-0800
RDATE:20190310T020000
RDATE:20200308T020000
END:DAYLIGHT
END:VTIMEZONE
BEGIN:VEVENT
UID:ef0ff8c3-4ddd-4cb2-9968-6e0bfeb0c1f3
DTSTAMP:20260423T024212Z
DESCRIPTION:
DTSTART;TZID=America/Anchorage:20181116T190000
DTEND;TZID=America/Anchorage:20181116T210000
LOCATION:
SUMMARY:Ceramic Mosaic Encore Class
END:VEVENT
END:VCALENDAR
